BEGIN:VCALENDAR
CALSCALE:GREGORIAN
METHOD:PUBLISH
PRODID:-//github.com/ical-org/ical.net//NONSGML ical.net 4.0//EN
VERSION:2.0
X-WR-TIMEZONE:US/Eastern
BEGIN:VEVENT
DESCRIPTION:To verify info please see https://apps.alexandriava.gov/Calend
 ar/Detail.aspx?si=62055\n\nMonthly meeting of the Alexandria Housing Affo
 rdability Advisory Committee. Venue has switched to Lee Center Gold Room 
 due to City Hall renovations.\n\nLocation: Lee Center\, 1108 Jefferson St
 .\nContact Person: Chris Do\nContact Phone: 703.746.3084\nContact Email: 
 christopher.do@alexandriava.gov\nAudience: Anyone may attend\n\nWeb resou
 rces:\n\nhttp://alexandriava.gov/housing\n
DTEND:20260206T014500Z
DTSTAMP:20260312T193954Z
DTSTART:20260205T234500Z
GEO:38.797510;-77.053621
LOCATION:Lee Center\, 1108 Jefferson St.
SEQUENCE:6
STATUS:CONFIRMED
SUMMARY:Housing Affordability Advisory Committee
TRANSP:OPAQUE
UID:f1012f14-a020-4716-8fa8-472744f42609
URL:http://alexandriava.gov/housing
X-ALT-DESC;FMTTYPE=text/html:To verify info please see <a href="https://ap
 ps.alexandriava.gov/Calendar/Detail.aspx?si=62055">https://apps.alexandri
 ava.gov/Calendar/Detail.aspx?si=62055</a><br />\n<br />Monthly meeting of
  the Alexandria Housing Affordability Advisory Committee. Venue has switc
 hed to Lee Center Gold Room due to City Hall renovations.\n<br />\n<br />
 Location: Lee Center\, 1108 Jefferson St.\n<br />Contact Person: Chris Do
 \n<br />Contact Phone: 703.746.3084\n<br />Contact Email: christopher.do@
 alexandriava.gov\n<br />Audience: Anyone may attend<br>\n<a href="http://
 alexandriava.gov/housing">http://alexandriava.gov/housing</a><br>\n
X-COA-DTSTAMP:20260312T193954Z
END:VEVENT
END:VCALENDAR
