BEGIN:VCALENDAR
CALSCALE:GREGORIAN
METHOD:PUBLISH
PRODID:-//github.com/ical-org/ical.net//NONSGML ical.net 4.0//EN
VERSION:2.0
X-WR-TIMEZONE:US/Eastern
BEGIN:VEVENT
CATEGORIES:Arts
CATEGORIES:Black History
CATEGORIES:Historic Preservation
CATEGORIES:Library
DESCRIPTION:To verify info please see https://apps.alexandriava.gov/Calend
 ar/Detail.aspx?si=62041\n\nJoin us to learn about the life and work of El
 rich Murphy\, a prolific photographer whose work captured African America
 n life in Alexandria like no other. See the photos on display\, and enjoy
  a presentation from local author\, historian\, and genealogist Char McCa
 rgo Bah. She will be joined by Elrich Murphy's daughter\, Rita Harris.\n\
 nLight refreshments will be available before the program begins.\n\nRegis
 tration is encouraged but not required. This event will be recorded.\n\nL
 ocation: Alexandria Library Special Collections\nContact Person: Nathan C
 arrick\nContact Email: ncarrick@alexlibraryva.org\nAudience: The same as 
 NULL value.\nTags: Arts\, Black History\, Historic Preservation\, Library
 \n\nWeb resources:\n\nEvent details and RSVP\nhttps://alexlibraryva.org/e
 vent/15421582\n
DTEND:20260221T230000Z
DTSTAMP:20260109T182122Z
DTSTART:20260221T213000Z
LOCATION:Alexandria Library Special Collections
SEQUENCE:5
STATUS:CONFIRMED
SUMMARY:Black Life Through the Lens of Elrich Murphy
TRANSP:OPAQUE
UID:4651ff50-1d56-4598-9fd9-cff226213225
URL:https://alexlibraryva.org/event/15421582
X-ALT-DESC;FMTTYPE=text/html:To verify info please see <a href="https://ap
 ps.alexandriava.gov/Calendar/Detail.aspx?si=62041">https://apps.alexandri
 ava.gov/Calendar/Detail.aspx?si=62041</a><br />\n<br />Join us to learn a
 bout the life and work of Elrich Murphy\, a prolific photographer whose w
 ork captured African American life in Alexandria like no other. See the p
 hotos on display\, and enjoy a presentation from local author\, historian
 \, and genealogist Char McCargo Bah. She will be joined by Elrich Murphy&
 #39\;s daughter\, Rita Harris.\n<br />\n<br />Light refreshments will be 
 available before the program begins.\n<br />\n<br />Registration is encou
 raged but not required. This event will be recorded.\n<br />\n<br />Locat
 ion: Alexandria Library Special Collections\n<br />Contact Person: Nathan
  Carrick\n<br />Contact Email: ncarrick@alexlibraryva.org\n<br />Audience
 : The same as NULL value.\n<br />Tags: Arts\, Black History\, Historic Pr
 eservation\, Library<br>\n<a href="https://alexlibraryva.org/event/154215
 82">Event details and RSVP</a><br>\n
X-COA-DTSTAMP:20260109T182122Z
END:VEVENT
END:VCALENDAR
