BEGIN:VCALENDAR
CALSCALE:GREGORIAN
METHOD:PUBLISH
PRODID:-//github.com/ical-org/ical.net//NONSGML ical.net 4.0//EN
VERSION:2.0
X-WR-TIMEZONE:US/Eastern
BEGIN:VEVENT
CATEGORIES:City Council Calendar
CATEGORIES:Official City Holiday
DESCRIPTION:To verify info please see https://apps.alexandriava.gov/Calend
 ar/Detail.aspx?si=61946\n\nCity Offices Closed for Martin Luther King\, J
 r. Day\n\nLocation:  No Location Specified\nAudience: Anyone may attend\n
 Tags: City Council Calendar\, Official City Holiday
DTEND;VALUE=DATE:20260120
DTSTAMP:20251230T150150Z
DTSTART;VALUE=DATE:20260119
SEQUENCE:5
STATUS:CANCELLED
SUMMARY:City Offices Closed for Martin Luther King\, Jr Day
TRANSP:TRANSPARENT
UID:92b55644-a1c5-4183-8241-d6d60c3538c9
X-ALT-DESC;FMTTYPE=text/html:To verify info please see <a href="https://ap
 ps.alexandriava.gov/Calendar/Detail.aspx?si=61946">https://apps.alexandri
 ava.gov/Calendar/Detail.aspx?si=61946</a><br />\n<br />City Offices Close
 d for Martin Luther King\, Jr. Day\n<br />\n<br />Location:  No Location 
 Specified\n<br />Audience: Anyone may attend\n<br />Tags: City Council Ca
 lendar\, Official City Holiday
X-COA-DTSTAMP:20251230T150150Z
END:VEVENT
END:VCALENDAR
