BEGIN:VCALENDAR
CALSCALE:GREGORIAN
METHOD:PUBLISH
PRODID:-//github.com/ical-org/ical.net//NONSGML ical.net 4.0//EN
VERSION:2.0
X-WR-TIMEZONE:US/Eastern
BEGIN:VEVENT
CATEGORIES:Boards & Commissions
CATEGORIES:Commission Meeting
CATEGORIES:Court Services
CATEGORIES:End Bullying Campaign
CATEGORIES:Teens
DESCRIPTION:Imported on Apr 21\, 2026\, 29 days before the event.\nTo veri
 fy info please see https://apps.alexandriava.gov/Calendar/Detail.aspx?si=
 61574\n\nThe purpose of the Task Force is to receive briefings on the sta
 tus of gang suppression\, prevention and intervention programs and activi
 ties in the City\; assist in informing and educating the Alexandria commu
 nity about the gang suppression\, prevention and intervention programs an
 d activities\; assist in identifying programs and activities that will ad
 dress specific gang-related problems or issues in the City\; assist in id
 entifying opportunities to obtain funding for programs and activities tha
 t will address such gang-related problems or issues\; and\, assist in ide
 ntifying state or local laws that should be enacted or amended to enable 
 the City\, and possibly other local governments\, to better address probl
 ems and issues arising from or related to gangs\n\nLocation: Charles Hous
 ton Recreation Center\, 901 Wythe St.\nContact Person: Luke Daniele\nCont
 act Phone: 703.746.4472\nContact Email: luke.daniele@alexandriava.gov\nAu
 dience: The same as NULL value.\nTags: Boards & Commissions\, Commission 
 Meeting\, Court Services\, End Bullying Campaign\, Teens
DTEND:20260521T000001Z
DTSTAMP:20251202T191450Z
DTSTART:20260520T220000Z
GEO:38.812326;-77.048213
LOCATION:Charles Houston Recreation Center\, 901 Wythe St.
SEQUENCE:5
STATUS:CONFIRMED
SUMMARY:Gang Prevention Community Task Force Meeting
TRANSP:OPAQUE
UID:90233929-9a95-485b-b40b-28f5ac66cadd
X-ALT-DESC;FMTTYPE=text/html:Imported on Apr 21\, 2026\, 29 days before th
 e event.<br />To verify info please see <a href="https://apps.alexandriav
 a.gov/Calendar/Detail.aspx?si=61574">https://apps.alexandriava.gov/Calend
 ar/Detail.aspx?si=61574</a><br />\n<br />The purpose of the Task Force is
  to receive briefings on the status of gang suppression\, prevention and 
 intervention programs and activities in the City\; assist in informing an
 d educating the Alexandria community about the gang suppression\, prevent
 ion and intervention programs and activities\; assist in identifying prog
 rams and activities that will address specific gang-related problems or i
 ssues in the City\; assist in identifying opportunities to obtain funding
  for programs and activities that will address such gang-related problems
  or issues\; and\, assist in identifying state or local laws that should 
 be enacted or amended to enable the City\, and possibly other local gover
 nments\, to better address problems and issues arising from or related to
  gangs\n<br />\n<br />Location: Charles Houston Recreation Center\, 901 W
 ythe St.\n<br />Contact Person: Luke Daniele\n<br />Contact Phone: 703.74
 6.4472\n<br />Contact Email: luke.daniele@alexandriava.gov\n<br />Audienc
 e: The same as NULL value.\n<br />Tags: Boards &amp\; Commissions\, Commi
 ssion Meeting\, Court Services\, End Bullying Campaign\, Teens
X-COA-DTSTAMP:20251202T191450Z
BEGIN:VALARM
ACTION:DISPLAY
DESCRIPTION:Gang Prevention Community Task Force Meeting: Please visit web
 site to confirm time\, location\, etc.
DURATION:PT30M
REPEAT:2
TRIGGER:-PT30M
END:VALARM
END:VEVENT
END:VCALENDAR
