BEGIN:VCALENDAR
CALSCALE:GREGORIAN
METHOD:PUBLISH
PRODID:-//github.com/ical-org/ical.net//NONSGML ical.net 4.0//EN
VERSION:2.0
X-WR-TIMEZONE:US/Eastern
BEGIN:VEVENT
CATEGORIES:America250
CATEGORIES:Gadsby's Tavern
CATEGORIES:Museums
CATEGORIES:Old & Historic Alexandria
CATEGORIES:Old Town
CATEGORIES:Parade
DESCRIPTION:To verify info please see https://apps.alexandriava.gov/Calend
 ar/Detail.aspx?si=61541\n\nEnjoy a four-course period inspired dinner wit
 h wine honoring Washington's Birthnight at Gadsby's Tavern Museum. Genera
 l Washington\, portrayed by Brian Hilton\, will be in attendance to share
  in the festivities. The evening will also include a keynote by Washingto
 n historian Ed Lengel.  Cocktail attire recommended. $150 per person\; pu
 rchase at Alexandriava.gov/Shop.\n\nLocation: Gadsby's Tavern Museum\, 13
 4 N. Royal St.\nFees: $150\nAudience: The same as NULL value.\nTags: Amer
 ica250\, Gadsby's Tavern\, Museums\, Old & Historic Alexandria\, Old Town
 \, Parade\n\nWeb resources:\n\nPurchase Tickets Online\nhttps://shop.alex
 andriava.gov/Events.aspx\n
DTEND:20260215T023000Z
DTSTAMP:20251217T154918Z
DTSTART:20260214T233000Z
GEO:38.805577;-77.043493
LOCATION:Gadsby's Tavern Museum\, 134 N. Royal St.
SEQUENCE:6
STATUS:CONFIRMED
SUMMARY:George Washington Birthnight Dinner
TRANSP:OPAQUE
UID:146e998b-77c9-4d10-b048-3058a4d166f4
URL:https://shop.alexandriava.gov/Events.aspx
X-ALT-DESC;FMTTYPE=text/html:To verify info please see <a href="https://ap
 ps.alexandriava.gov/Calendar/Detail.aspx?si=61541">https://apps.alexandri
 ava.gov/Calendar/Detail.aspx?si=61541</a><br />\n<br />Enjoy a four-cours
 e period inspired dinner with wine honoring Washington?s Birthnight at Ga
 dsby?s Tavern Museum. General Washington\, portrayed by Brian Hilton\, wi
 ll be in attendance to share in the festivities. The evening will also in
 clude a keynote by Washington historian Ed Lengel.  Cocktail attire recom
 mended. $150 per person\; purchase at Alexandriava.gov/Shop.\n<br />\n<br
  />Location: Gadsby&#39\;s Tavern Museum\, 134 N. Royal St.\n<br />Fees: 
 $150\n<br />Audience: The same as NULL value.\n<br />Tags: America250\, G
 adsby&#39\;s Tavern\, Museums\, Old &amp\; Historic Alexandria\, Old Town
 \, Parade<br>\n<a href="https://shop.alexandriava.gov/Events.aspx">Purcha
 se Tickets Online</a><br>\n
X-COA-DTSTAMP:20251217T154918Z
END:VEVENT
END:VCALENDAR
