BEGIN:VCALENDAR
CALSCALE:GREGORIAN
METHOD:PUBLISH
PRODID:-//github.com/ical-org/ical.net//NONSGML ical.net 4.0//EN
VERSION:2.0
X-WR-TIMEZONE:US/Eastern
BEGIN:VEVENT
CATEGORIES:Affordable Housing
CATEGORIES:Community Engagement
CATEGORIES:Community Outreach
CATEGORIES:Housing Master Plan
CATEGORIES:Housing2040
DESCRIPTION:To verify info please see https://apps.alexandriava.gov/Calend
 ar/Detail.aspx?si=61532\n\nThe Housing 2040 Open House will provide a for
 um to learn about draft recommendations and provide feedback for several 
 Housing 2040 projects. Learn more about recommendations for Landlord-Tena
 nt Rights and Protections\, Affordable Housing Preservation\, Homeownersh
 ip\, Senior Housing\, Financial Tools for Affordable Housing\, and Common
  Interest Communities.\n\nTo request interpretation\, please email Christ
 opher Do at christopher.do@alexandriava.gov by February 20 or register us
 ing the form below.\n\nLocation: Lee Center\, 1108 Jefferson St.\nContact
  Person: Christopher Do\nContact Phone: 703.746.3084\nContact Email: chri
 stopher.do@alexandriava.gov\nAudience: Anyone may attend\nTags: Affordabl
 e Housing\, Community Engagement\, Community Outreach\, Housing Master Pl
 an\, Housing2040\n\nWeb resources:\n\nRegistration Form\nhttps://app.smar
 tsheet.com/b/form/019be110f4d67453b89cfa14a2574b42\n\nhttps://www.alexand
 riava.gov/HousingPlan\n
DTEND:20260228T200000Z
DTSTAMP:20260127T161739Z
DTSTART:20260228T150000Z
GEO:38.797510;-77.053621
LOCATION:Lee Center\, 1108 Jefferson St.
SEQUENCE:8
STATUS:CONFIRMED
SUMMARY:Housing 2040 Open House
TRANSP:OPAQUE
UID:ede6158c-ceec-44fb-a230-d57f1e4a793b
URL:https://app.smartsheet.com/b/form/019be110f4d67453b89cfa14a2574b42
X-ALT-DESC;FMTTYPE=text/html:To verify info please see <a href="https://ap
 ps.alexandriava.gov/Calendar/Detail.aspx?si=61532">https://apps.alexandri
 ava.gov/Calendar/Detail.aspx?si=61532</a><br />\n<br />The Housing 2040 O
 pen House will provide a forum to learn about draft recommendations and p
 rovide feedback for several Housing 2040 projects. Learn more about recom
 mendations for Landlord-Tenant Rights and Protections\, Affordable Housin
 g Preservation\, Homeownership\, Senior Housing\, Financial Tools for Aff
 ordable Housing\, and Common Interest Communities.\n<br />\n<br />To requ
 est interpretation\, please email Christopher Do at christopher.do@alexan
 driava.gov by February 20 or register using the form below.\n<br />\n<br 
 />Location: Lee Center\, 1108 Jefferson St.\n<br />Contact Person: Christ
 opher Do\n<br />Contact Phone: 703.746.3084\n<br />Contact Email: christo
 pher.do@alexandriava.gov\n<br />Audience: Anyone may attend\n<br />Tags: 
 Affordable Housing\, Community Engagement\, Community Outreach\, Housing 
 Master Plan\, Housing2040<br>\n<a href="https://app.smartsheet.com/b/form
 /019be110f4d67453b89cfa14a2574b42">Registration Form</a><br>\n<a href="ht
 tps://www.alexandriava.gov/HousingPlan">https://www.alexandriava.gov/Hous
 ingPlan</a><br>\n
X-COA-DTSTAMP:20260127T161739Z
END:VEVENT
END:VCALENDAR
