BEGIN:VCALENDAR
CALSCALE:GREGORIAN
METHOD:PUBLISH
PRODID:-//github.com/ical-org/ical.net//NONSGML ical.net 4.0//EN
VERSION:2.0
X-WR-TIMEZONE:US/Eastern
BEGIN:VEVENT
CATEGORIES:Boards & Commissions
CATEGORIES:Library
DESCRIPTION:To verify info please see https://apps.alexandriava.gov/Calend
 ar/Detail.aspx?si=61486\n\nA special meeting of the Alexandria Library Bo
 ard. \n\nLocation:  Virtual Only\nContact Person: Nathan Carrick\nContact
  Email: ncarrick@alexlibraryva.org\nAudience: The same as NULL value.\nTa
 gs: Boards & Commissions\, Library
DTEND:20251107T180000Z
DTSTAMP:20251103T210125Z
DTSTART:20251107T170000Z
LOCATION: Virtual Only
SEQUENCE:5
STATUS:CONFIRMED
SUMMARY:Alexandria Library Board Special Meeting - VIRTUAL
TRANSP:OPAQUE
UID:a851abef-e18b-444e-a10d-8ca46bc7964d
X-ALT-DESC;FMTTYPE=text/html:To verify info please see <a href="https://ap
 ps.alexandriava.gov/Calendar/Detail.aspx?si=61486">https://apps.alexandri
 ava.gov/Calendar/Detail.aspx?si=61486</a><br />\n<br />A special meeting 
 of the Alexandria Library Board. \n<br />\n<br />Location:  Virtual Only\
 n<br />Contact Person: Nathan Carrick\n<br />Contact Email: ncarrick@alex
 libraryva.org\n<br />Audience: The same as NULL value.\n<br />Tags: Board
 s &amp\; Commissions\, Library
X-COA-DTSTAMP:20251103T210125Z
END:VEVENT
END:VCALENDAR
