BEGIN:VCALENDAR
CALSCALE:GREGORIAN
METHOD:PUBLISH
PRODID:-//github.com/ical-org/ical.net//NONSGML ical.net 4.0//EN
VERSION:2.0
X-WR-TIMEZONE:US/Eastern
BEGIN:VEVENT
CATEGORIES:Affordable Housing
CATEGORIES:Housing2040
DESCRIPTION:To verify info please see https://apps.alexandriava.gov/Calend
 ar/Detail.aspx?si=61471\n\nJoin us as we present draft recommendations fo
 r strengthening Alexandria's condominium communities. We will be acceptin
 g your feedback on the draft recommendations.\n\nThe final recommendation
 s will be included the Housing 2040 Master Plan Update. \n\nRegister in a
 dvance for this webinar:\nhttps://zoom.us/webinar/register/WN_4zOw9oOqSiq
 PDVItfrU3Jw\n\nCall-in number: 301.715.8592 \nMeeting ID: 934 1046 1405\n
 Passcode: 732004\n\n\nAfter registering\, you will receive a confirmation
  email containing information about joining the webinar.\n\nLocation:  Vi
 rtual Only\nContact Person: Kim Cadena\nContact Phone: 203.746.4990\nCont
 act Email: kimberly.cadena@alexandriava.gov\nAudience: The same as NULL v
 alue.\nTags: Affordable Housing\, Housing2040\n\nWeb resources:\n\nInform
 ation on Housing 2040\nhttps://www.alexandriava.gov/HousingPlan\n\nOffice
  of Housing\nhttps://www.alexandriava.gov/Housing\n
DTEND:20251115T163000Z
DTSTAMP:20251031T223750Z
DTSTART:20251115T143000Z
LOCATION: Virtual Only
SEQUENCE:5
STATUS:CONFIRMED
SUMMARY:VIRTUAL: Housing 2040: Strengthening Condo Communities
TRANSP:OPAQUE
UID:603cda61-173c-4e25-be18-cdec44319400
URL:https://www.alexandriava.gov/HousingPlan
X-ALT-DESC;FMTTYPE=text/html:To verify info please see <a href="https://ap
 ps.alexandriava.gov/Calendar/Detail.aspx?si=61471">https://apps.alexandri
 ava.gov/Calendar/Detail.aspx?si=61471</a><br />\n<br />Join us as we pres
 ent draft recommendations for strengthening Alexandria&#39\;s condominium
  communities. We will be accepting your feedback on the draft recommendat
 ions.\n<br />\n<br />The final recommendations will be included the Housi
 ng 2040 Master Plan Update. \n<br />\n<br />Register in advance for this 
 webinar:\n<br />https://zoom.us/webinar/register/WN_4zOw9oOqSiqPDVItfrU3J
 w\n<br />\n<br />Call-in number: 301.715.8592 \n<br />Meeting ID: 934 104
 6 1405\n<br />Passcode: 732004\n<br />\n<br />\n<br />After registering\,
  you will receive a confirmation email containing information about joini
 ng the webinar.\n<br />\n<br />Location:  Virtual Only\n<br />Contact Per
 son: Kim Cadena\n<br />Contact Phone: 203.746.4990\n<br />Contact Email: 
 kimberly.cadena@alexandriava.gov\n<br />Audience: The same as NULL value.
 \n<br />Tags: Affordable Housing\, Housing2040<br>\n<a href="https://www.
 alexandriava.gov/HousingPlan">Information on Housing 2040</a><br>\n<a hre
 f="https://www.alexandriava.gov/Housing">Office of Housing</a><br>\n
X-COA-DTSTAMP:20251031T223750Z
END:VEVENT
END:VCALENDAR
