BEGIN:VCALENDAR
CALSCALE:GREGORIAN
METHOD:PUBLISH
PRODID:-//github.com/ical-org/ical.net//NONSGML ical.net 4.0//EN
VERSION:2.0
X-WR-TIMEZONE:US/Eastern
BEGIN:VEVENT
CATEGORIES:Police Department
DESCRIPTION:To verify info please see https://apps.alexandriava.gov/Calend
 ar/Detail.aspx?si=61468\n\nStart your path to becoming an Alexandria Poli
 ce Officer in three simple steps.\n\nArrive no later than 10 AM (late arr
 ivals will not be admitted.)\nBring two forms of ID\nDress professionally
 \n\nThe process includes a background questionnaire\, a short writing pro
 mpt\, and a panel introduction interview.\n\nOur recruiters are ready to 
 meet you.\n\nVisit APD Headquarters\, 3600 Wheeler Avenue\, and take the 
 first step toward serving your community.\n\nLocation: Police Headquarter
 s\nAudience: The same as NULL value.\nTags: Police Department\n\nWeb reso
 urces:\n\nJoin APD\nhttps://www.alexandriava.gov/JoinAPD\n
DTEND:20251108T170000Z
DTSTAMP:20251031T181623Z
DTSTART:20251108T150000Z
GEO:38.806875;-77.092330
LOCATION:Police Headquarters
SEQUENCE:5
STATUS:CONFIRMED
SUMMARY:Saturday Entry-Level Police Assessment
TRANSP:OPAQUE
UID:be108751-5ce8-42d9-8a66-516ac4809475
URL:https://www.alexandriava.gov/JoinAPD
X-ALT-DESC;FMTTYPE=text/html:To verify info please see <a href="https://ap
 ps.alexandriava.gov/Calendar/Detail.aspx?si=61468">https://apps.alexandri
 ava.gov/Calendar/Detail.aspx?si=61468</a><br />\n<br />Start your path to
  becoming an Alexandria Police Officer in three simple steps.\n<br />\n<b
 r />Arrive no later than 10 AM (late arrivals will not be admitted.)\n<br
  />Bring two forms of ID\n<br />Dress professionally\n<br />\n<br />The p
 rocess includes a background questionnaire\, a short writing prompt\, and
  a panel introduction interview.\n<br />\n<br />Our recruiters are ready 
 to meet you.\n<br />\n<br />Visit APD Headquarters\, 3600 Wheeler Avenue\
 , and take the first step toward serving your community.\n<br />\n<br />L
 ocation: Police Headquarters\n<br />Audience: The same as NULL value.\n<b
 r />Tags: Police Department<br>\n<a href="https://www.alexandriava.gov/Jo
 inAPD">Join APD</a><br>\n
X-COA-DTSTAMP:20251031T181623Z
END:VEVENT
END:VCALENDAR
