BEGIN:VCALENDAR
CALSCALE:GREGORIAN
METHOD:PUBLISH
PRODID:-//github.com/ical-org/ical.net//NONSGML ical.net 4.0//EN
VERSION:2.0
X-WR-TIMEZONE:US/Eastern
BEGIN:VEVENT
CATEGORIES:Police Department
DESCRIPTION:To verify info please see https://apps.alexandriava.gov/Calend
 ar/Detail.aspx?si=61464\n\nLooking to start a rewarding career in law enf
 orcement? The Alexandria Police Department is hiring - and this is your c
 hance to take the first step.\n\nTuesday\, November 4\, 2025\nStarts prom
 ptly at 6:00 PM\nAlexandria Police Department HQ\n\nThis special evening 
 session is designed for those who can't attend during the day.\n\nOpen to
  all entry-level applicants\nBring two forms of ID\n\nDoors close at 6:00
  PM sharp - no late arrivals can be admitted.\n\nAt APD\, you'll find mor
 e than a job. You'll find purpose\, community\, and a career where you be
 long.\n\nLearn more and apply today: www.AlexandriaVA.gov/JoinAPD\n\n\nLo
 cation: Police Headquarters\nAudience: The same as NULL value.\nTags: Pol
 ice Department
DTEND:20251105T010000Z
DTSTAMP:20251031T180521Z
DTSTART:20251104T230000Z
GEO:38.806875;-77.092330
LOCATION:Police Headquarters
SEQUENCE:5
STATUS:CONFIRMED
SUMMARY:Evening Entry-Level Assessment
TRANSP:OPAQUE
UID:f73ef4fd-9e54-4724-a25d-7bff85f7405f
X-ALT-DESC;FMTTYPE=text/html:To verify info please see <a href="https://ap
 ps.alexandriava.gov/Calendar/Detail.aspx?si=61464">https://apps.alexandri
 ava.gov/Calendar/Detail.aspx?si=61464</a><br />\n<br />Looking to start a
  rewarding career in law enforcement? The Alexandria Police Department is
  hiring ? and this is your chance to take the first step.\n<br />\n<br />
 Tuesday\, November 4\, 2025\n<br />Starts promptly at 6:00 PM\n<br />Alex
 andria Police Department HQ\n<br />\n<br />This special evening session i
 s designed for those who can?t attend during the day.\n<br />\n<br />Open
  to all entry-level applicants\n<br />Bring two forms of ID\n<br />\n<br 
 />Doors close at 6:00 PM sharp ? no late arrivals can be admitted.\n<br /
 >\n<br />At APD\, you?ll find more than a job. You?ll find purpose\, comm
 unity\, and a career where you belong.\n<br />\n<br />Learn more and appl
 y today: www.AlexandriaVA.gov/JoinAPD\n<br />\n<br />\n<br />Location: Po
 lice Headquarters\n<br />Audience: The same as NULL value.\n<br />Tags: P
 olice Department
X-COA-DTSTAMP:20251031T180521Z
END:VEVENT
END:VCALENDAR
