BEGIN:VCALENDAR
CALSCALE:GREGORIAN
METHOD:PUBLISH
PRODID:-//github.com/ical-org/ical.net//NONSGML ical.net 4.0//EN
VERSION:2.0
X-WR-TIMEZONE:US/Eastern
BEGIN:VEVENT
CATEGORIES:Arts
CATEGORIES:Office of the Arts
CATEGORIES:Performing Arts
CATEGORIES:Public Art & Memorials
CATEGORIES:Visual Arts
CATEGORIES:Waterfront
DESCRIPTION:To verify info please see https://apps.alexandriava.gov/Calend
 ar/Detail.aspx?si=61462\n\nJoin us as we say goodbye to the 2025 Site See
  installation "Break Water" by Nekisha Durrett with a special performance
  by Batala at 2 p.m. \n\nLocation: Waterfront Park\, 1 Prince St.\nContac
 t Person: Diane Ruggiero\nContact Phone: 703.746.5590\nContact Email: dia
 ne.ruggiero@alexandriava.gov\nAudience: The same as NULL value.\nTags: Ar
 ts\, Office of the Arts\, Performing Arts\, Public Art & Memorials\, Visu
 al Arts\, Waterfront\n\nWeb resources:\n\nclick here for more information
 \nhttps://torpedofactory.org/event/30th-annual-art-safari/\n
DTEND:20251109T210000Z
DTSTAMP:20251031T135810Z
DTSTART:20251109T180000Z
GEO:38.803380;-77.039641
LOCATION:Waterfront Park\, 1 Prince St.
SEQUENCE:5
STATUS:CONFIRMED
SUMMARY:Closing Celebration of "Break Water"
TRANSP:TRANSPARENT
UID:25278dc9-f58b-4010-8389-261f0d79d389
URL:https://torpedofactory.org/event/30th-annual-art-safari/
X-ALT-DESC;FMTTYPE=text/html:To verify info please see <a href="https://ap
 ps.alexandriava.gov/Calendar/Detail.aspx?si=61462">https://apps.alexandri
 ava.gov/Calendar/Detail.aspx?si=61462</a><br />\n<br />Join us as we say 
 goodbye to the 2025 Site See installation &quot\;Break Water&quot\; by Ne
 kisha Durrett with a special performance by Batala at 2 p.m. \n<br />\n<b
 r />Location: Waterfront Park\, 1 Prince St.\n<br />Contact Person: Diane
  Ruggiero\n<br />Contact Phone: 703.746.5590\n<br />Contact Email: diane.
 ruggiero@alexandriava.gov\n<br />Audience: The same as NULL value.\n<br /
 >Tags: Arts\, Office of the Arts\, Performing Arts\, Public Art &amp\; Me
 morials\, Visual Arts\, Waterfront<br>\n<a href="https://torpedofactory.o
 rg/event/30th-annual-art-safari/">click here for more information</a><br>
 \n
X-COA-DTSTAMP:20251031T135810Z
END:VEVENT
END:VCALENDAR
