BEGIN:VCALENDAR
CALSCALE:GREGORIAN
METHOD:PUBLISH
PRODID:-//github.com/ical-org/ical.net//NONSGML ical.net 4.0//EN
VERSION:2.0
X-WR-TIMEZONE:US/Eastern
BEGIN:VEVENT
DESCRIPTION:To verify info please see https://apps.alexandriava.gov/Calend
 ar/Detail.aspx?si=61444\n\nA meeting of the Public Records Advisory Commi
 ssion\n\nLocation: Archives and Records Center\, 801 S. Payne Street\nAud
 ience: The same as NULL value.\n\nWeb resources:\n\nMeeting agenda\nhttps
 ://www.alexandriava.gov/sites/default/files/2025-10/pracagenda20251104.pd
 f\n
DTEND:20251105T020000Z
DTSTAMP:20251126T145546Z
DTSTART:20251105T003000Z
LOCATION:Archives and Records Center\, 801 S. Payne Street
SEQUENCE:6
STATUS:CONFIRMED
SUMMARY:Public Records Advisory Commission
TRANSP:OPAQUE
UID:82f7e288-7af4-4210-be16-8c1235bef070
URL:https://www.alexandriava.gov/sites/default/files/2025-10/pracagenda202
 51104.pdf
X-ALT-DESC;FMTTYPE=text/html:To verify info please see <a href="https://ap
 ps.alexandriava.gov/Calendar/Detail.aspx?si=61444">https://apps.alexandri
 ava.gov/Calendar/Detail.aspx?si=61444</a><br />\n<br />A meeting of the P
 ublic Records Advisory Commission\n<br />\n<br />Location: Archives and R
 ecords Center\, 801 S. Payne Street\n<br />Audience: The same as NULL val
 ue.<br>\n<a href="https://www.alexandriava.gov/sites/default/files/2025-1
 0/pracagenda20251104.pdf">Meeting agenda</a><br>\n
X-COA-DTSTAMP:20251126T145546Z
END:VEVENT
END:VCALENDAR
