BEGIN:VCALENDAR
CALSCALE:GREGORIAN
METHOD:PUBLISH
PRODID:-//github.com/ical-org/ical.net//NONSGML ical.net 4.0//EN
VERSION:2.0
X-WR-TIMEZONE:US/Eastern
BEGIN:VEVENT
CATEGORIES:Boards & Commissions
DESCRIPTION:To verify info please see https://apps.alexandriava.gov/Calend
 ar/Detail.aspx?si=61441\n\nMembers of the Board and staff are participati
 ng in person. The meeting can be accessed by the public in person at the 
 Ed Semonian Boardroom or through the live broadcast on Microsoft Virtual 
 Events Powered by Teams.\n\nPublic comment will be taken in person at Ale
 xRenew. Submission of written statements is encouraged. Written statement
 s may be emailed to the Board Executive Assistant\nLorna.huff@alexrenew.c
 om\n\n\n\n1800 Limerick Street\, 6th floor\, Ed Semonian Boardroom\, Alex
 andria\, VA 2231\n\nLocation:  No Location Specified\nContact Person: Lor
 na Huff\nContact Phone: 703.721.3500\nContact Email: Lorna.huff@alexrenew
 .com\nAudience: The same as NULL value.\nTags: Boards & Commissions\n\nWe
 b resources:\n\nTeams link\nhttps://gcc02.safelinks.protection.outlook.co
 m/?url=https%3A%2F%2Fevents.teams.microsoft.com%2Fevent%2F297cb2d2-d6e4-4
 9b1-a2c0-33c0e1935cf5%40bc392915-4dc1-4660-adb6-3ff5598df7ec&data=05%7C02
 %7CGloria.Sitton%40alexandriava.gov%7C5264ee57d59f46886e9508de156fe94a%7C
 feaa9b3143754aeeadccc76ad32a890b%7C0%7C0%7C638971767570278814%7CUnknown%7
 CTWFpbGZsb3d8eyJFbXB0eU1hcGkiOnRydWUsIlYiOiIwLjAuMDAwMCIsIlAiOiJXaW4zMiIs
 IkFOIjoiTWFpbCIsIldUIjoyfQ%3D%3D%7C0%7C%7C%7C&sdata=IAUwPHDTwwO54Sc2Qbhec
 toX7QsSNdECbDyP1jBkifQ%3D&reserved=0\n
DTEND:20251104T230000Z
DTSTAMP:20251027T204347Z
DTSTART:20251104T220000Z
SEQUENCE:6
STATUS:CONFIRMED
SUMMARY:AlexRenew Finance and Audit Committee Prep Meeting
TRANSP:TRANSPARENT
UID:477fb7a5-cb3b-45f8-a00d-83e33c4cf596
URL:https://gcc02.safelinks.protection.outlook.com/?url=https%3A%2F%2Feven
 ts.teams.microsoft.com%2Fevent%2F297cb2d2-d6e4-49b1-a2c0-33c0e1935cf5%40b
 c392915-4dc1-4660-adb6-3ff5598df7ec&data=05%7C02%7CGloria.Sitton%40alexan
 driava.gov%7C5264ee57d59f46886e9508de156fe94a%7Cfeaa9b3143754aeeadccc76ad
 32a890b%7C0%7C0%7C638971767570278814%7CUnknown%7CTWFpbGZsb3d8eyJFbXB0eU1h
 cGkiOnRydWUsIlYiOiIwLjAuMDAwMCIsIlAiOiJXaW4zMiIsIkFOIjoiTWFpbCIsIldUIjoyf
 Q%3D%3D%7C0%7C%7C%7C&sdata=IAUwPHDTwwO54Sc2QbhectoX7QsSNdECbDyP1jBkifQ%3D
 &reserved=0
X-ALT-DESC;FMTTYPE=text/html:To verify info please see <a href="https://ap
 ps.alexandriava.gov/Calendar/Detail.aspx?si=61441">https://apps.alexandri
 ava.gov/Calendar/Detail.aspx?si=61441</a><br />\n<br />Members of the Boa
 rd and staff are participating in person. The meeting can be accessed by 
 the public in person at the Ed Semonian Boardroom or through the live bro
 adcast on Microsoft Virtual Events Powered by Teams.\n<br />\n<br />Publi
 c comment will be taken in person at AlexRenew. Submission of written sta
 tements is encouraged. Written statements may be emailed to the Board Exe
 cutive Assistant\n<br />Lorna.huff@alexrenew.com\n<br />\n<br />\n<br />\
 n<br />1800 Limerick Street\, 6th floor\, Ed Semonian Boardroom\, Alexand
 ria\, VA 2231\n<br />\n<br />Location:  No Location Specified\n<br />Cont
 act Person: Lorna Huff\n<br />Contact Phone: 703.721.3500\n<br />Contact 
 Email: Lorna.huff@alexrenew.com\n<br />Audience: The same as NULL value.\
 n<br />Tags: Boards &amp\; Commissions<br>\n<a href="https://gcc02.safeli
 nks.protection.outlook.com/?url=https%3A%2F%2Fevents.teams.microsoft.com%
 2Fevent%2F297cb2d2-d6e4-49b1-a2c0-33c0e1935cf5%40bc392915-4dc1-4660-adb6-
 3ff5598df7ec&amp\;data=05%7C02%7CGloria.Sitton%40alexandriava.gov%7C5264e
 e57d59f46886e9508de156fe94a%7Cfeaa9b3143754aeeadccc76ad32a890b%7C0%7C0%7C
 638971767570278814%7CUnknown%7CTWFpbGZsb3d8eyJFbXB0eU1hcGkiOnRydWUsIlYiOi
 IwLjAuMDAwMCIsIlAiOiJXaW4zMiIsIkFOIjoiTWFpbCIsIldUIjoyfQ%3D%3D%7C0%7C%7C%
 7C&amp\;sdata=IAUwPHDTwwO54Sc2QbhectoX7QsSNdECbDyP1jBkifQ%3D&amp\;reserve
 d=0">Teams link</a><br>\n
X-COA-DTSTAMP:20251027T204347Z
END:VEVENT
END:VCALENDAR
