BEGIN:VCALENDAR
CALSCALE:GREGORIAN
METHOD:PUBLISH
PRODID:-//github.com/ical-org/ical.net//NONSGML ical.net 4.0//EN
VERSION:2.0
X-WR-TIMEZONE:US/Eastern
BEGIN:VEVENT
CATEGORIES:Boards & Commissions
CATEGORIES:Commission Meeting
CATEGORIES:Commission on Information Technology
DESCRIPTION:Imported on Apr 21\, 2026\, 29 days before the event.\nTo veri
 fy info please see https://apps.alexandriava.gov/Calendar/Detail.aspx?si=
 61409\n\nCommission on Information Technology Regular Monthly Meeting. Th
 is meeting is hybrid\; in-person and via Zoom.\n\nThe meeting will be hel
 d in person at City of Alexandria-\nLee Center\, Conference Room 4\nAddre
 ss: 1108 Jefferson Street\, Alexandria\, VA\, 22314\n\nLocation: Lee Cent
 er\, 1108 Jefferson St.\nAudience: The same as NULL value.\nTags: Boards 
 & Commissions\, Commission Meeting\, Commission on Information Technology
DTEND:20260522T010000Z
DTSTAMP:20251022T174544Z
DTSTART:20260521T230000Z
GEO:38.797510;-77.053621
LOCATION:Lee Center\, 1108 Jefferson St.
SEQUENCE:5
STATUS:CONFIRMED
SUMMARY:Commission on IT Monthly Meeting
TRANSP:TRANSPARENT
UID:f948e5b3-a9f5-4836-859e-9577cdfebb89
X-ALT-DESC;FMTTYPE=text/html:Imported on Apr 21\, 2026\, 29 days before th
 e event.<br />To verify info please see <a href="https://apps.alexandriav
 a.gov/Calendar/Detail.aspx?si=61409">https://apps.alexandriava.gov/Calend
 ar/Detail.aspx?si=61409</a><br />\n<br />Commission on Information Techno
 logy Regular Monthly Meeting. This meeting is hybrid\; in-person and via 
 Zoom.\n<br />\n<br />The meeting will be held in person at City of Alexan
 dria-\n<br />Lee Center\, Conference Room 4\n<br />Address: 1108 Jefferso
 n Street\, Alexandria\, VA\, 22314\n<br />\n<br />Location: Lee Center\, 
 1108 Jefferson St.\n<br />Audience: The same as NULL value.\n<br />Tags: 
 Boards &amp\; Commissions\, Commission Meeting\, Commission on Informatio
 n Technology
X-COA-DTSTAMP:20251022T174544Z
END:VEVENT
END:VCALENDAR
