BEGIN:VCALENDAR
CALSCALE:GREGORIAN
METHOD:PUBLISH
PRODID:-//github.com/ical-org/ical.net//NONSGML ical.net 4.0//EN
VERSION:2.0
X-WR-TIMEZONE:US/Eastern
BEGIN:VEVENT
CATEGORIES:Police Department
DESCRIPTION:To verify info please see https://apps.alexandriava.gov/Calend
 ar/Detail.aspx?si=61382\n\nJoin the Alexandria Police Department at Targe
 t for a community and recruiting event. Meet our officers\, learn more ab
 out the work we do to keep Alexandria safe\, and discover what it takes t
 o become part of our team. APD recruiters will be on hand to answer quest
 ions about career opportunities\, the hiring process\, and training.\n\nW
 hether you're interested in a career in law enforcement or simply want to
  connect with your local officers\, stop by and say hello!\n\nLearn more 
 at alexandriava.gov/JoinAPD\n\nDate: Friday\, October 17\, 2025\nTime: 11
  a.m.-3 p.m.\nLocation: Target\, 3101 Richmond Highway\, Alexandria\, VA 
 22305\n\nLocation: Target\, 3101 Richmond Highway\nAudience: The same as 
 NULL value.\nTags: Police Department\n\nWeb resources:\n\nhttps://www.ale
 xandriava.gov/JoinAPD\n
DTEND:20251017T190000Z
DTSTAMP:20251014T194842Z
DTSTART:20251017T150000Z
LOCATION:Target\, 3101 Richmond Highway
SEQUENCE:8
STATUS:CONFIRMED
SUMMARY:Meet APD Officers and Recruiters at Target
TRANSP:OPAQUE
UID:1a55cc9f-c759-4205-b798-f1fe36d5b600
URL:https://www.alexandriava.gov/JoinAPD
X-ALT-DESC;FMTTYPE=text/html:To verify info please see <a href="https://ap
 ps.alexandriava.gov/Calendar/Detail.aspx?si=61382">https://apps.alexandri
 ava.gov/Calendar/Detail.aspx?si=61382</a><br />\n<br />Join the Alexandri
 a Police Department at Target for a community and recruiting event. Meet 
 our officers\, learn more about the work we do to keep Alexandria safe\, 
 and discover what it takes to become part of our team. APD recruiters wil
 l be on hand to answer questions about career opportunities\, the hiring 
 process\, and training.\n<br />\n<br />Whether you?re interested in a car
 eer in law enforcement or simply want to connect with your local officers
 \, stop by and say hello!\n<br />\n<br />Learn more at alexandriava.gov/J
 oinAPD\n<br />\n<br />Date: Friday\, October 17\, 2025\n<br />Time: 11 a.
 m.?3 p.m.\n<br />Location: Target\, 3101 Richmond Highway\, Alexandria\, 
 VA 22305\n<br />\n<br />Location: Target\, 3101 Richmond Highway\n<br />A
 udience: The same as NULL value.\n<br />Tags: Police Department<br>\n<a h
 ref="https://www.alexandriava.gov/JoinAPD">https://www.alexandriava.gov/J
 oinAPD</a><br>\n
X-COA-DTSTAMP:20251014T194842Z
END:VEVENT
END:VCALENDAR
