BEGIN:VCALENDAR
CALSCALE:GREGORIAN
METHOD:PUBLISH
PRODID:-//github.com/ical-org/ical.net//NONSGML ical.net 4.0//EN
VERSION:2.0
X-WR-TIMEZONE:US/Eastern
BEGIN:VEVENT
CATEGORIES:Community Meeting
CATEGORIES:Health
CATEGORIES:Healthier Alexandria
CATEGORIES:Landmark/Van Dorn
DESCRIPTION:To verify info please see https://apps.alexandriava.gov/Calend
 ar/Detail.aspx?si=60300\n\nJoin neighbors to plan the next five years of 
 health projects dedicated to Landmark-Van Dorn\n\nDinner will be provided
  as well as child friendly activities. All are welcome.\n\nLocation: Patr
 ick Henry Recreation Center\, 4653 Taney Ave.\nContact Person: Sean Curry
 \nContact Phone: 703.244.5654\nContact Email: sean.curry@vdh.virginia.gov
 \nAudience: Anyone may attend\nTags: Community Meeting\, Health\, Healthi
 er Alexandria\, Landmark/Van Dorn\n\nWeb resources:\n\nRSVP\nhttps://form
 s.office.com/g/92v7NCLuu6\n
DTEND:20251106T013000Z
DTSTAMP:20250925T192912Z
DTSTART:20251105T233000Z
GEO:38.816255;-77.111492
LOCATION:Patrick Henry Recreation Center\, 4653 Taney Ave.
SEQUENCE:5
STATUS:CONFIRMED
SUMMARY:Community Health Coalition Mtg: Landmark-Van Dorn
TRANSP:OPAQUE
UID:b07511c5-d366-4e23-99f8-7dbbf8ff8e7a
URL:https://forms.office.com/g/92v7NCLuu6
X-ALT-DESC;FMTTYPE=text/html:To verify info please see <a href="https://ap
 ps.alexandriava.gov/Calendar/Detail.aspx?si=60300">https://apps.alexandri
 ava.gov/Calendar/Detail.aspx?si=60300</a><br />\n<br />Join neighbors to 
 plan the next five years of health projects dedicated to Landmark-Van Dor
 n\n<br />\n<br />Dinner will be provided as well as child friendly activi
 ties. All are welcome.\n<br />\n<br />Location: Patrick Henry Recreation 
 Center\, 4653 Taney Ave.\n<br />Contact Person: Sean Curry\n<br />Contact
  Phone: 703.244.5654\n<br />Contact Email: sean.curry@vdh.virginia.gov\n<
 br />Audience: Anyone may attend\n<br />Tags: Community Meeting\, Health\
 , Healthier Alexandria\, Landmark/Van Dorn<br>\n<a href="https://forms.of
 fice.com/g/92v7NCLuu6">RSVP</a><br>\n
X-COA-DTSTAMP:20250925T192912Z
END:VEVENT
END:VCALENDAR
