BEGIN:VCALENDAR
CALSCALE:GREGORIAN
METHOD:PUBLISH
PRODID:-//github.com/ical-org/ical.net//NONSGML ical.net 4.0//EN
VERSION:2.0
X-WR-TIMEZONE:US/Eastern
BEGIN:VEVENT
CATEGORIES:CityPoolHours
DESCRIPTION:To verify info please see https://apps.alexandriava.gov/Calend
 ar/Detail.aspx?si=60230\n\nMinnie Howard Open\n\nLocation: Minnie Howard 
 Aquatics Facility\, 3795 W Braddock Road\nAudience: Anyone may attend\nTa
 gs: CityPoolHours\n\nWeb resources:\n\nInformation about Minnie Howard Aq
 uatics Facility\, including fees and pool rules\nhttps://www.alexandriava
 .gov/aquatics/minnie-howard-aquatics-facility\n
DTEND:20251105T020000Z
DTSTAMP:20250916T192352Z
DTSTART:20251104T210000Z
GEO:38.828325;-77.095648
LOCATION:Minnie Howard Aquatics Facility\, 3795 W Braddock Road
SEQUENCE:5
STATUS:CONFIRMED
SUMMARY:Minnie Howard Open
TRANSP:TRANSPARENT
UID:c2a9f87f-854b-4d83-ae5f-f9f5e2a90064
URL:https://www.alexandriava.gov/aquatics/minnie-howard-aquatics-facility
X-ALT-DESC;FMTTYPE=text/html:To verify info please see <a href="https://ap
 ps.alexandriava.gov/Calendar/Detail.aspx?si=60230">https://apps.alexandri
 ava.gov/Calendar/Detail.aspx?si=60230</a><br />\n<br />Minnie Howard Open
 \n<br />\n<br />Location: Minnie Howard Aquatics Facility\, 3795 W Braddo
 ck Road\n<br />Audience: Anyone may attend\n<br />Tags: CityPoolHours<br>
 \n<a href="https://www.alexandriava.gov/aquatics/minnie-howard-aquatics-f
 acility">Information about Minnie Howard Aquatics Facility\, including fe
 es and pool rules</a><br>\n
X-COA-DTSTAMP:20250916T192352Z
END:VEVENT
END:VCALENDAR
