BEGIN:VCALENDAR
CALSCALE:GREGORIAN
METHOD:PUBLISH
PRODID:-//github.com/ical-org/ical.net//NONSGML ical.net 4.0//EN
VERSION:2.0
X-WR-TIMEZONE:US/Eastern
BEGIN:VEVENT
CATEGORIES:CityPoolHours
DESCRIPTION:To verify info please see https://apps.alexandriava.gov/Calend
 ar/Detail.aspx?si=60115\n\nChinquapin Open\n\nLocation: Chinquapin Park R
 ecreation Center\, 3210 King St.\nFees: Daily fees range from $0 to $12. 
 Season passes are available\; see pool website for details.\nAudience: An
 yone may attend\nTags: CityPoolHours
DTEND:20251013T190000Z
DTSTAMP:20250915T180603Z
DTSTART:20251013T130000Z
GEO:38.823928;-77.083350
LOCATION:Chinquapin Park Recreation Center\, 3210 King St.
SEQUENCE:6
STATUS:CONFIRMED
SUMMARY:Chinquapin Open
TRANSP:TRANSPARENT
UID:63259e5d-40fb-4578-9673-fa1eb5e90c59
X-ALT-DESC;FMTTYPE=text/html:To verify info please see <a href="https://ap
 ps.alexandriava.gov/Calendar/Detail.aspx?si=60115">https://apps.alexandri
 ava.gov/Calendar/Detail.aspx?si=60115</a><br />\n<br />Chinquapin Open\n<
 br />\n<br />Location: Chinquapin Park Recreation Center\, 3210 King St.\
 n<br />Fees: Daily fees range from $0 to $12. Season passes are available
 \; see pool website for details.\n<br />Audience: Anyone may attend\n<br 
 />Tags: CityPoolHours
X-COA-DTSTAMP:20250915T180603Z
END:VEVENT
END:VCALENDAR
