BEGIN:VCALENDAR
CALSCALE:GREGORIAN
METHOD:PUBLISH
PRODID:-//github.com/ical-org/ical.net//NONSGML ical.net 4.0//EN
VERSION:2.0
X-WR-TIMEZONE:US/Eastern
BEGIN:VEVENT
CATEGORIES:City Council
DESCRIPTION:To verify info please see https://apps.alexandriava.gov/Calend
 ar/Detail.aspx?si=59953\n\nUtility Resource Fair at Del Pepper Community 
 Center for residents to meet with utility vendors offering services in Al
 exandria.\n\nLocation: Del Pepper Community Resource Center\, 4850 Mark C
 enter Drive\nContact Person: Michele Griffin\nContact Phone: 571.329.3738
 \nContact Email: michele.griffin@alexandriava.gov\nAudience: Anyone may a
 ttend\nTags: City Council
DTEND:20251101T210000Z
DTSTAMP:20251006T181638Z
DTSTART:20251101T170000Z
LOCATION:Del Pepper Community Resource Center\, 4850 Mark Center Drive
SEQUENCE:9
STATUS:CONFIRMED
SUMMARY:Utility Resource Fair
TRANSP:OPAQUE
UID:29237967-3029-4a93-aaa0-d2af594c91d6
X-ALT-DESC;FMTTYPE=text/html:To verify info please see <a href="https://ap
 ps.alexandriava.gov/Calendar/Detail.aspx?si=59953">https://apps.alexandri
 ava.gov/Calendar/Detail.aspx?si=59953</a><br />\n<br />Utility Resource F
 air at Del Pepper Community Center for residents to meet with utility ven
 dors offering services in Alexandria.\n<br />\n<br />Location: Del Pepper
  Community Resource Center\, 4850 Mark Center Drive\n<br />Contact Person
 : Michele Griffin\n<br />Contact Phone: 571.329.3738\n<br />Contact Email
 : michele.griffin@alexandriava.gov\n<br />Audience: Anyone may attend\n<b
 r />Tags: City Council
X-COA-DTSTAMP:20251006T181638Z
END:VEVENT
END:VCALENDAR
