BEGIN:VCALENDAR
CALSCALE:GREGORIAN
METHOD:PUBLISH
PRODID:-//github.com/ical-org/ical.net//NONSGML ical.net 4.0//EN
VERSION:2.0
X-WR-TIMEZONE:US/Eastern
BEGIN:VEVENT
CATEGORIES:City Council
CATEGORIES:City Council Calendar
DESCRIPTION:To verify info please see https://apps.alexandriava.gov/Calend
 ar/Detail.aspx?si=59934\n\nVirginia Municipal League 2025 Annual Conferen
 ce\nOct. 11 - Oct. 14\, 2025\nHotel Roanoke and Conference Center\nRoanok
 e\, VA\nThree or more Council members may attend this event.\n\nLocation:
   No Location Specified\nContact Email: gloria.sitton@alexandriava.gov\nA
 udience: Anyone may attend\nTags: City Council\, City Council Calendar
DTEND;VALUE=DATE:20251013
DTSTAMP:20250902T190948Z
DTSTART;VALUE=DATE:20251012
SEQUENCE:5
STATUS:CONFIRMED
SUMMARY:VML 2025 Annual Conference
TRANSP:TRANSPARENT
UID:e897a9e7-e33f-4f9c-8252-717fa4ba2c50
X-ALT-DESC;FMTTYPE=text/html:To verify info please see <a href="https://ap
 ps.alexandriava.gov/Calendar/Detail.aspx?si=59934">https://apps.alexandri
 ava.gov/Calendar/Detail.aspx?si=59934</a><br />\n<br />Virginia Municipal
  League 2025 Annual Conference\n<br />Oct. 11 - Oct. 14\, 2025\n<br />Hot
 el Roanoke and Conference Center\n<br />Roanoke\, VA\n<br />Three or more
  Council members may attend this event.\n<br />\n<br />Location:  No Loca
 tion Specified\n<br />Contact Email: gloria.sitton@alexandriava.gov\n<br 
 />Audience: Anyone may attend\n<br />Tags: City Council\, City Council Ca
 lendar
X-COA-DTSTAMP:20250902T190948Z
END:VEVENT
END:VCALENDAR
