BEGIN:VCALENDAR
CALSCALE:GREGORIAN
METHOD:PUBLISH
PRODID:-//github.com/ical-org/ical.net//NONSGML ical.net 4.0//EN
VERSION:2.0
X-WR-TIMEZONE:US/Eastern
BEGIN:VEVENT
CATEGORIES:Adult
CATEGORIES:Aging
CATEGORIES:Boards & Commissions
CATEGORIES:Commission Meeting
CATEGORIES:DCHS
CATEGORIES:Seniors
DESCRIPTION:To verify info please see https://apps.alexandriava.gov/Calend
 ar/Detail.aspx?si=59905\n\nMeeting in-person\, 6th floor\, conference roo
 m 6401\,\n\nLocation: 4850 Mark Center Drive\, 4850 Mark Center Drive\nCo
 ntact Person: Ashley Johnson\nContact Phone: 703.746.3389\nAudience: Anyo
 ne may attend\nTags: Adult\, Aging\, Boards & Commissions\, Commission Me
 eting\, DCHS\, Seniors
DTEND:20250904T223000Z
DTSTAMP:20250828T154130Z
DTSTART:20250904T203000Z
LOCATION:4850 Mark Center Drive\, 4850 Mark Center Drive
SEQUENCE:5
STATUS:CONFIRMED
SUMMARY:Commission on Aging Economic Committee
TRANSP:TRANSPARENT
UID:f82178d2-87b4-46be-b5e9-55b2c7b96b01
X-ALT-DESC;FMTTYPE=text/html:To verify info please see <a href="https://ap
 ps.alexandriava.gov/Calendar/Detail.aspx?si=59905">https://apps.alexandri
 ava.gov/Calendar/Detail.aspx?si=59905</a><br />\n<br />Meeting in-person\
 , 6th floor\, conference room 6401\,\n<br />\n<br />Location: 4850 Mark C
 enter Drive\, 4850 Mark Center Drive\n<br />Contact Person: Ashley Johnso
 n\n<br />Contact Phone: 703.746.3389\n<br />Audience: Anyone may attend\n
 <br />Tags: Adult\, Aging\, Boards &amp\; Commissions\, Commission Meetin
 g\, DCHS\, Seniors
X-COA-DTSTAMP:20250828T154130Z
END:VEVENT
END:VCALENDAR
