BEGIN:VCALENDAR
CALSCALE:GREGORIAN
METHOD:PUBLISH
PRODID:-//github.com/ical-org/ical.net//NONSGML ical.net 4.0//EN
VERSION:2.0
X-WR-TIMEZONE:US/Eastern
BEGIN:VEVENT
CATEGORIES:Adult
CATEGORIES:Aging
CATEGORIES:Boards & Commissions
CATEGORIES:Commission Meeting
CATEGORIES:DCHS
CATEGORIES:Seniors
DESCRIPTION:To verify info please see https://apps.alexandriava.gov/Calend
 ar/Detail.aspx?si=59885\n\nLocation: Goodwin Living\, 4800 Fillmore Avenu
 e\, Alexandria VA 22311 - Resident Conference Room\n\nLocation: Goodwin L
 iving Alexandria\, 4800 Fillmore Ave\nContact Person: Ashley Johnson\nCon
 tact Phone: 703.746.3389\nContact Email: ashley.johnson@alexandriava.gov\
 nAudience: Anyone may attend\nTags: Adult\, Aging\, Boards & Commissions\
 , Commission Meeting\, DCHS\, Seniors
DTEND:20250902T193000Z
DTSTAMP:20250828T134400Z
DTSTART:20250902T173000Z
LOCATION:Goodwin Living Alexandria\, 4800 Fillmore Ave
SEQUENCE:5
STATUS:CONFIRMED
SUMMARY:Commission on Aging - Executive Committee Meeting
TRANSP:TRANSPARENT
UID:60dac124-0831-4b5c-9fb6-bb317018d4d0
X-ALT-DESC;FMTTYPE=text/html:To verify info please see <a href="https://ap
 ps.alexandriava.gov/Calendar/Detail.aspx?si=59885">https://apps.alexandri
 ava.gov/Calendar/Detail.aspx?si=59885</a><br />\n<br />Location: Goodwin 
 Living\, 4800 Fillmore Avenue\, Alexandria VA 22311 ? Resident Conference
  Room\n<br />\n<br />Location: Goodwin Living Alexandria\, 4800 Fillmore 
 Ave\n<br />Contact Person: Ashley Johnson\n<br />Contact Phone: 703.746.3
 389\n<br />Contact Email: ashley.johnson@alexandriava.gov\n<br />Audience
 : Anyone may attend\n<br />Tags: Adult\, Aging\, Boards &amp\; Commission
 s\, Commission Meeting\, DCHS\, Seniors
X-COA-DTSTAMP:20250828T134400Z
END:VEVENT
END:VCALENDAR
