BEGIN:VCALENDAR
CALSCALE:GREGORIAN
METHOD:PUBLISH
PRODID:-//github.com/ical-org/ical.net//NONSGML ical.net 4.0//EN
VERSION:2.0
X-WR-TIMEZONE:US/Eastern
BEGIN:VEVENT
DESCRIPTION:To verify info please see https://apps.alexandriava.gov/Calend
 ar/Detail.aspx?si=59875\n\nAffordable Housing Preservation and Anti-Displ
 acement Recommendations\n\nAs part of the Housing 2040 Master Plan proces
 s\, please join us to learn about ways to preserve and enhance affordable
  housing in Alexandria and to help tenants remain in their communities sa
 fely and affordably.\n\nRegistration is required!\n\nInterpretation: Inte
 rpretation will be provided in Spanish. For interpretation in other langu
 ages\, please register or contact Christopher.Do@alexandriava.gov by Nove
 mber 10 to identify your preferred language.\n\nLocation:  Virtual Only\n
 Contact Person: Christopher Do\nContact Phone: 703.746.3084\nContact Emai
 l: christopher.do@alexandriava.gov\nAudience: Anyone may attend\n\nWeb re
 sources:\n\nhttps://www.alexandriava.gov/HousingPlan\n
DTEND:20251118T014500Z
DTSTAMP:20251118T145107Z
DTSTART:20251117T233000Z
LOCATION: Virtual Only
SEQUENCE:10
STATUS:CONFIRMED
SUMMARY:Housing 2040 Community Meeting #5
TRANSP:OPAQUE
UID:6540c342-3898-4987-9dc2-378c16349cec
URL:https://www.alexandriava.gov/HousingPlan
X-ALT-DESC;FMTTYPE=text/html:To verify info please see <a href="https://ap
 ps.alexandriava.gov/Calendar/Detail.aspx?si=59875">https://apps.alexandri
 ava.gov/Calendar/Detail.aspx?si=59875</a><br />\n<br />Affordable Housing
  Preservation and Anti-Displacement Recommendations\n<br />\n<br />As par
 t of the Housing 2040 Master Plan process\, please join us to learn about
  ways to preserve and enhance affordable housing in Alexandria and to hel
 p tenants remain in their communities safely and affordably.\n<br />\n<br
  />Registration is required!\n<br />\n<br />Interpretation: Interpretatio
 n will be provided in Spanish. For interpretation in other languages\, pl
 ease register or contact Christopher.Do@alexandriava.gov by November 10 t
 o identify your preferred language.\n<br />\n<br />Location:  Virtual Onl
 y\n<br />Contact Person: Christopher Do\n<br />Contact Phone: 703.746.308
 4\n<br />Contact Email: christopher.do@alexandriava.gov\n<br />Audience: 
 Anyone may attend<br>\n<a href="https://www.alexandriava.gov/HousingPlan"
 >https://www.alexandriava.gov/HousingPlan</a><br>\n
X-COA-DTSTAMP:20251118T145107Z
END:VEVENT
END:VCALENDAR
