BEGIN:VCALENDAR
CALSCALE:GREGORIAN
METHOD:PUBLISH
PRODID:-//github.com/ical-org/ical.net//NONSGML ical.net 4.0//EN
VERSION:2.0
X-WR-TIMEZONE:US/Eastern
BEGIN:VEVENT
CATEGORIES:Boards & Commissions
CATEGORIES:Community Meeting
CATEGORIES:Community Outreach
CATEGORIES:North Potomac Yard
CATEGORIES:Planning Meeting
CATEGORIES:Potomac Yard
CATEGORIES:PYDAC
DESCRIPTION:To verify info please see https://apps.alexandriava.gov/Calend
 ar/Detail.aspx?si=59867\n\nPotomac Yard Design Advisory Committee Meeting
 \n\n\n\nLocation: City Hall\, Room 1900\, 301 King St\nContact Person: Di
 rk Geratz\nContact Email: dirk.geratz@alexandriava.gov\nAudience: Anyone 
 may attend\nTags: Boards & Commissions\, Community Meeting\, Community Ou
 treach\, North Potomac Yard\, Planning Meeting\, Potomac Yard\, PYDAC\n\n
 Web resources:\n\nPYDAC website\nhttps://www.alexandriava.gov/46412\n
DTEND:20250828T000001Z
DTSTAMP:20250821T133224Z
DTSTART:20250827T223000Z
LOCATION:City Hall\, Room 1900\, 301 King St
SEQUENCE:5
STATUS:CONFIRMED
SUMMARY:Potomac Yard Design Advisory Committee Meeting
TRANSP:OPAQUE
UID:ceb7258d-4f34-4676-978e-93c93e3d4286
URL:https://www.alexandriava.gov/46412
X-ALT-DESC;FMTTYPE=text/html:To verify info please see <a href="https://ap
 ps.alexandriava.gov/Calendar/Detail.aspx?si=59867">https://apps.alexandri
 ava.gov/Calendar/Detail.aspx?si=59867</a><br />\n<br />Potomac Yard Desig
 n Advisory Committee Meeting\n<br />\n<br />\n<br />\n<br />Location: Cit
 y Hall\, Room 1900\, 301 King St\n<br />Contact Person: Dirk Geratz\n<br 
 />Contact Email: dirk.geratz@alexandriava.gov\n<br />Audience: Anyone may
  attend\n<br />Tags: Boards &amp\; Commissions\, Community Meeting\, Comm
 unity Outreach\, North Potomac Yard\, Planning Meeting\, Potomac Yard\, P
 YDAC<br>\n<a href="https://www.alexandriava.gov/46412">PYDAC website</a><
 br>\n
X-COA-DTSTAMP:20250821T133224Z
END:VEVENT
END:VCALENDAR
