BEGIN:VCALENDAR
CALSCALE:GREGORIAN
METHOD:PUBLISH
PRODID:-//github.com/ical-org/ical.net//NONSGML ical.net 4.0//EN
VERSION:2.0
X-WR-TIMEZONE:US/Eastern
BEGIN:VEVENT
CATEGORIES:DCHS
DESCRIPTION:To verify info please see https://apps.alexandriava.gov/Calend
 ar/Detail.aspx?si=59866\n\nCelebrate Recovery Month\nConnect ? Create ? C
 elebrate\n\nThis event honors the recovery journeys of DCHS clients by cr
 eating a supportive\, uplifting\, and inclusive environment that fosters 
 connection\, wellness\, and continued motivation during National Recovery
  Month. The event's goals include celebrating recovery milestones\, promo
 ting community engagement\, and reinforcing recovery-oriented values.\n\n
 Join us for a day of art\, movement\, and wellness. Highlights include tw
 o chair yoga sessions designed to promote gentle movement and relaxation\
 ; mindful art activities that explore how creativity supports mental well
 -being\; and breath work sessions introducing simple techniques to reduce
  stress. Participants will also have the opportunity to create and take h
 ome a personal canvas during the Herd Art Activity.\n\nThe event will be 
 held at the Del Pepper Community Resource Center\, 4850 Mark Center Drive
 \, in the cafeteria\, from 9 a.m. to 2 p.m.\n\nFor reasonable disability 
 accommodation\, please contact christina.damhuis@alexandriava.gov\n or ca
 ll 703.746.5694. Virginia Relay users\, dial 711.\n\nLocation: 4850 Mark 
 Center Drive\, 4850 Mark Center Drive\nContact Person: Kirstin Sievers\nC
 ontact Email: kirstin.sievers@alexandriava.gov\nAudience: Anyone may atte
 nd\nTags: DCHS\n\nWeb resources:\n\nhttps://www.alexandriava.gov/Opioids\
 n
DTEND:20250904T180000Z
DTSTAMP:20250821T184849Z
DTSTART:20250904T130000Z
LOCATION:4850 Mark Center Drive\, 4850 Mark Center Drive
SEQUENCE:6
STATUS:CONFIRMED
SUMMARY:Recovery Month Celebration
TRANSP:OPAQUE
UID:cfe02928-2ca5-47e3-9c72-432262dc2ca6
URL:https://www.alexandriava.gov/Opioids
X-ALT-DESC;FMTTYPE=text/html:To verify info please see <a href="https://ap
 ps.alexandriava.gov/Calendar/Detail.aspx?si=59866">https://apps.alexandri
 ava.gov/Calendar/Detail.aspx?si=59866</a><br />\n<br />Celebrate Recovery
  Month\n<br />Connect &#183\; Create &#183\; Celebrate\n<br />\n<br />Thi
 s event honors the recovery journeys of DCHS clients by creating a suppor
 tive\, uplifting\, and inclusive environment that fosters connection\, we
 llness\, and continued motivation during National Recovery Month. The eve
 nt?s goals include celebrating recovery milestones\, promoting community 
 engagement\, and reinforcing recovery-oriented values.\n<br />\n<br />Joi
 n us for a day of art\, movement\, and wellness. Highlights include two c
 hair yoga sessions designed to promote gentle movement and relaxation\; m
 indful art activities that explore how creativity supports mental well-be
 ing\; and breath work sessions introducing simple techniques to reduce st
 ress. Participants will also have the opportunity to create and take home
  a personal canvas during the Herd Art Activity.\n<br />\n<br />The event
  will be held at the Del Pepper Community Resource Center\, 4850 Mark Cen
 ter Drive\, in the cafeteria\, from 9 a.m. to 2 p.m.\n<br />\n<br />For r
 easonable disability accommodation\, please contact christina.damhuis@ale
 xandriava.gov\n<br /> or call 703.746.5694. Virginia Relay users\, dial 7
 11.\n<br />\n<br />Location: 4850 Mark Center Drive\, 4850 Mark Center Dr
 ive\n<br />Contact Person: Kirstin Sievers\n<br />Contact Email: kirstin.
 sievers@alexandriava.gov\n<br />Audience: Anyone may attend\n<br />Tags: 
 DCHS<br>\n<a href="https://www.alexandriava.gov/Opioids">https://www.alex
 andriava.gov/Opioids</a><br>\n
X-COA-DTSTAMP:20250821T184849Z
END:VEVENT
END:VCALENDAR
