BEGIN:VCALENDAR
CALSCALE:GREGORIAN
METHOD:PUBLISH
PRODID:-//github.com/ical-org/ical.net//NONSGML ical.net 4.0//EN
VERSION:2.0
X-WR-TIMEZONE:US/Eastern
BEGIN:VEVENT
DESCRIPTION:To verify info please see https://apps.alexandriava.gov/Calend
 ar/Detail.aspx?si=59838\n\nThe Children\, Youth & Families Collaborative 
 Commission's (CYFCC) Ad hoc will be held virtually.\n\nLocation:  Virtual
  Only\nContact Person: Noraine Buttar\nContact Phone: 703.746.3436\nConta
 ct Email: noraine.buttar@alexandriava.gov\nAudience: Anyone may attend
DTEND:20250818T190000Z
DTSTAMP:20250819T152556Z
DTSTART:20250818T180000Z
LOCATION: Virtual Only
SEQUENCE:6
STATUS:CONFIRMED
SUMMARY:VIRTUAL: Child Youth  Fam. Coll. Comm Ad hoc Mtg..
TRANSP:OPAQUE
UID:68b27361-ec51-41c4-9cb1-f035ce1ec9c9
X-ALT-DESC;FMTTYPE=text/html:To verify info please see <a href="https://ap
 ps.alexandriava.gov/Calendar/Detail.aspx?si=59838">https://apps.alexandri
 ava.gov/Calendar/Detail.aspx?si=59838</a><br />\n<br />The Children\, You
 th &amp\; Families Collaborative Commission&#39\;s (CYFCC) Ad hoc will be
  held virtually.\n<br />\n<br />Location:  Virtual Only\n<br />Contact Pe
 rson: Noraine Buttar\n<br />Contact Phone: 703.746.3436\n<br />Contact Em
 ail: noraine.buttar@alexandriava.gov\n<br />Audience: Anyone may attend
X-COA-DTSTAMP:20250819T152556Z
END:VEVENT
END:VCALENDAR
