BEGIN:VCALENDAR
CALSCALE:GREGORIAN
METHOD:PUBLISH
PRODID:-//github.com/ical-org/ical.net//NONSGML ical.net 4.0//EN
VERSION:2.0
X-WR-TIMEZONE:US/Eastern
BEGIN:VEVENT
CATEGORIES:Apothecary Museum
CATEGORIES:Halloween
CATEGORIES:Museums
CATEGORIES:Old & Historic Alexandria
CATEGORIES:Old Town
DESCRIPTION:To verify info please see https://apps.alexandriava.gov/Calend
 ar/Detail.aspx?si=59819\n\nCelebrate spooky season and explore the sinist
 er side of medicine on the Apothecary Museum's Poisons Tour. This one-hou
 r tour explores several different types of poisons\, their historic uses 
 at the Apothecary\, and what we know today. Recommended for ages 18 and u
 p. Tour is 6:00pm-7:00pm. Please arrive between 5:45-6:00pm as the museum
  will close to the public at 5:00pm and the doors will be locked when the
  tour begins at 6:00pm.\n\nLocation: Stabler-Leadbeater Apothecary Museum
 \, 105-107 S. Fairfax St.\nFees: $15/$12 for Historic Alexandria Members 
 and Volunteers\nAudience: Anyone may attend\nTags: Apothecary Museum\, Ha
 lloween\, Museums\, Old & Historic Alexandria\, Old Town\n\nWeb resources
 :\n\nPurchase tickets online\nhttps://shop.alexandriava.gov/Events.aspx\n
DTEND:20251025T230000Z
DTSTAMP:20250731T230033Z
DTSTART:20251025T220000Z
GEO:38.804291;-77.042693
LOCATION:Stabler-Leadbeater Apothecary Museum\, 105-107 S. Fairfax St.
SEQUENCE:5
STATUS:CONFIRMED
SUMMARY:Specialty Tour: Poisons at the Apothecary Museum
TRANSP:OPAQUE
UID:d8a83790-a8fc-40e0-93d9-5ecc3c74dc5f
URL:https://shop.alexandriava.gov/Events.aspx
X-ALT-DESC;FMTTYPE=text/html:To verify info please see <a href="https://ap
 ps.alexandriava.gov/Calendar/Detail.aspx?si=59819">https://apps.alexandri
 ava.gov/Calendar/Detail.aspx?si=59819</a><br />\n<br />Celebrate spooky s
 eason and explore the sinister side of medicine on the Apothecary Museum&
 #39\;s Poisons Tour. This one-hour tour explores several different types 
 of poisons\, their historic uses at the Apothecary\, and what we know tod
 ay. Recommended for ages 18 and up. Tour is 6:00pm-7:00pm. Please arrive 
 between 5:45-6:00pm as the museum will close to the public at 5:00pm and 
 the doors will be locked when the tour begins at 6:00pm.\n<br />\n<br />L
 ocation: Stabler-Leadbeater Apothecary Museum\, 105-107 S. Fairfax St.\n<
 br />Fees: $15/$12 for Historic Alexandria Members and Volunteers\n<br />
 Audience: Anyone may attend\n<br />Tags: Apothecary Museum\, Halloween\, 
 Museums\, Old &amp\; Historic Alexandria\, Old Town<br>\n<a href="https:/
 /shop.alexandriava.gov/Events.aspx">Purchase tickets online</a><br>\n
X-COA-DTSTAMP:20250731T230033Z
END:VEVENT
END:VCALENDAR
