BEGIN:VCALENDAR
CALSCALE:GREGORIAN
METHOD:PUBLISH
PRODID:-//github.com/ical-org/ical.net//NONSGML ical.net 4.0//EN
VERSION:2.0
X-WR-TIMEZONE:US/Eastern
BEGIN:VEVENT
CATEGORIES:Apothecary Museum
CATEGORIES:Museums
CATEGORIES:Old & Historic Alexandria
CATEGORIES:Old Town
DESCRIPTION:To verify info please see https://apps.alexandriava.gov/Calend
 ar/Detail.aspx?si=59814\n\nTour this historic apothecary and learn about 
 a few of the herbal medicines featured in Diana Gabaldon's Outlander seri
 es of novels from cascara to dauco seeds. The tour also touches on the ro
 le of apothecaries and women in medicine in the 18th century. Recommended
  for ages 18 and up. Tour is 11 a.m.-noon. Please arrive between 10:45-11
 :00 a.m. as the museum is not open to the public until 1 p.m. and the doo
 rs will be locked when the tour begins. Please note the tour involves asc
 ending and descending stairs.\n\nLocation: Stabler-Leadbeater Apothecary 
 Museum\, 105-107 S. Fairfax St.\nFees: $15/$12 for Historic Alexandria Me
 mbers and Volunteers\nAudience: Anyone may attend\nTags: Apothecary Museu
 m\, Museums\, Old & Historic Alexandria\, Old Town\n\nWeb resources:\n\nP
 urchase tickets online\nhttps://shop.alexandriava.gov/Events.aspx\n
DTEND:20251019T160000Z
DTSTAMP:20250731T224424Z
DTSTART:20251019T150000Z
GEO:38.804291;-77.042693
LOCATION:Stabler-Leadbeater Apothecary Museum\, 105-107 S. Fairfax St.
SEQUENCE:8
STATUS:CONFIRMED
SUMMARY:Specialty Tour: Outlandish Apothecary
TRANSP:OPAQUE
UID:067e0f35-082f-4e65-8e41-ef546e7b7b25
URL:https://shop.alexandriava.gov/Events.aspx
X-ALT-DESC;FMTTYPE=text/html:To verify info please see <a href="https://ap
 ps.alexandriava.gov/Calendar/Detail.aspx?si=59814">https://apps.alexandri
 ava.gov/Calendar/Detail.aspx?si=59814</a><br />\n<br />Tour this historic
  apothecary and learn about a few of the herbal medicines featured in Dia
 na Gabaldon?s Outlander series of novels from cascara to dauco seeds. The
  tour also touches on the role of apothecaries and women in medicine in t
 he 18th century. Recommended for ages 18 and up. Tour is 11 a.m.-noon. Pl
 ease arrive between 10:45-11:00 a.m. as the museum is not open to the pub
 lic until 1 p.m. and the doors will be locked when the tour begins. Pleas
 e note the tour involves ascending and descending stairs.\n<br />\n<br />
 Location: Stabler-Leadbeater Apothecary Museum\, 105-107 S. Fairfax St.\n
 <br />Fees: $15/$12 for Historic Alexandria Members and Volunteers\n<br /
 >Audience: Anyone may attend\n<br />Tags: Apothecary Museum\, Museums\, O
 ld &amp\; Historic Alexandria\, Old Town<br>\n<a href="https://shop.alexa
 ndriava.gov/Events.aspx">Purchase tickets online</a><br>\n
X-COA-DTSTAMP:20250731T224424Z
END:VEVENT
END:VCALENDAR
