BEGIN:VCALENDAR
CALSCALE:GREGORIAN
METHOD:PUBLISH
PRODID:-//github.com/ical-org/ical.net//NONSGML ical.net 4.0//EN
VERSION:2.0
X-WR-TIMEZONE:US/Eastern
BEGIN:VEVENT
CATEGORIES:Apothecary Museum
CATEGORIES:Museums
CATEGORIES:Old & Historic Alexandria
CATEGORIES:Old Town
DESCRIPTION:To verify info please see https://apps.alexandriava.gov/Calend
 ar/Detail.aspx?si=59813\n\nLearn about the muggle botanical science that 
 inspired the potions and herbology of Harry Potter's wizarding world on a
  tour of this 19th century apothecary\, and make your own magical potion!
  Recommended for ages 8 and up. Children must be accompanied by a ticket-
 holding adult.\n\nLocation: Stabler-Leadbeater Apothecary Museum\, 105-10
 7 S. Fairfax St.\nFees: $15/$12 for Historic Alexandria Members and Volun
 teers\nAudience: Anyone may attend\nTags: Apothecary Museum\, Museums\, O
 ld & Historic Alexandria\, Old Town\n\nWeb resources:\n\nPurchase tickets
  online\nhttps://shop.alexandriava.gov/Events.aspx\n
DTEND:20251109T170000Z
DTSTAMP:20250731T221826Z
DTSTART:20251109T160000Z
GEO:38.804291;-77.042693
LOCATION:Stabler-Leadbeater Apothecary Museum\, 105-107 S. Fairfax St.
SEQUENCE:5
STATUS:CONFIRMED
SUMMARY:Specialty Tour: A Magical Apothecary
TRANSP:OPAQUE
UID:b47f21ca-5861-4bb2-b2c5-ea2665256bff
URL:https://shop.alexandriava.gov/Events.aspx
X-ALT-DESC;FMTTYPE=text/html:To verify info please see <a href="https://ap
 ps.alexandriava.gov/Calendar/Detail.aspx?si=59813">https://apps.alexandri
 ava.gov/Calendar/Detail.aspx?si=59813</a><br />\n<br />Learn about the mu
 ggle botanical science that inspired the potions and herbology of Harry P
 otter&#39\;s wizarding world on a tour of this 19th century apothecary\, 
 and make your own magical potion! Recommended for ages 8 and up. Children
  must be accompanied by a ticket-holding adult.\n<br />\n<br />Location: 
 Stabler-Leadbeater Apothecary Museum\, 105-107 S. Fairfax St.\n<br />Fees
 : $15/$12 for Historic Alexandria Members and Volunteers\n<br />Audience:
  Anyone may attend\n<br />Tags: Apothecary Museum\, Museums\, Old &amp\; 
 Historic Alexandria\, Old Town<br>\n<a href="https://shop.alexandriava.go
 v/Events.aspx">Purchase tickets online</a><br>\n
X-COA-DTSTAMP:20250731T221826Z
END:VEVENT
END:VCALENDAR
