BEGIN:VCALENDAR
CALSCALE:GREGORIAN
METHOD:PUBLISH
PRODID:-//github.com/ical-org/ical.net//NONSGML ical.net 4.0//EN
VERSION:2.0
X-WR-TIMEZONE:US/Eastern
BEGIN:VEVENT
CATEGORIES:City Council
CATEGORIES:Health
CATEGORIES:Public Safety
DESCRIPTION:To verify info please see https://apps.alexandriava.gov/Calend
 ar/Detail.aspx?si=59802\n\nThe purpose of the Health and Safety Coordinat
 ing Committee is to enable City-serving agencies to collaborate and use d
 ata to problem-solve with members of City Council on prevention and inter
 vention strategies that impact the overall health and safety of the commu
 nity.\n\nVirtual Option: \nWebinar ID:  969 0333 4494\nWebinar Passcode: 
  852840\nDial-in number: 301-715-8592\nRegistration: https://zoom.us/webi
 nar/register/WN_1xoQsuviQR2Y7IYDUbu4vg\n\n\nLocation: Lee Center\, 1108 J
 efferson St.\nContact Person: Dana Wedeles\nContact Phone: 703.746.3862\n
 Contact Email: dana.wedeles@alexandriava.gov\nAudience: Anyone may attend
 \nTags: City Council\, Health\, Public Safety\n\nWeb resources:\n\nhttps:
 //www.alexandriava.gov/subcommittees/health-and-safety-coordinating-commi
 ttee\n
DTEND:20260123T143000Z
DTSTAMP:20250917T171221Z
DTSTART:20260123T133000Z
GEO:38.797510;-77.053621
LOCATION:Lee Center\, 1108 Jefferson St.
SEQUENCE:6
STATUS:CONFIRMED
SUMMARY:Health and Safety Coordinating Committee
TRANSP:OPAQUE
UID:8d4c637c-2c99-437f-9cd8-c28236d67f48
URL:https://www.alexandriava.gov/subcommittees/health-and-safety-coordinat
 ing-committee
X-ALT-DESC;FMTTYPE=text/html:To verify info please see <a href="https://ap
 ps.alexandriava.gov/Calendar/Detail.aspx?si=59802">https://apps.alexandri
 ava.gov/Calendar/Detail.aspx?si=59802</a><br />\n<br />The purpose of the
  Health and Safety Coordinating Committee is to enable City-serving agenc
 ies to collaborate and use data to problem-solve with members of City Cou
 ncil on prevention and intervention strategies that impact the overall he
 alth and safety of the community.\n<br />\n<br />Virtual Option: \n<br />
 Webinar ID:  969 0333 4494\n<br />Webinar Passcode:  852840\n<br />Dial-i
 n number: 301-715-8592\n<br />Registration: https://zoom.us/webinar/regis
 ter/WN_1xoQsuviQR2Y7IYDUbu4vg\n<br />\n<br />\n<br />Location: Lee Center
 \, 1108 Jefferson St.\n<br />Contact Person: Dana Wedeles\n<br />Contact 
 Phone: 703.746.3862\n<br />Contact Email: dana.wedeles@alexandriava.gov\n
 <br />Audience: Anyone may attend\n<br />Tags: City Council\, Health\, Pu
 blic Safety<br>\n<a href="https://www.alexandriava.gov/subcommittees/heal
 th-and-safety-coordinating-committee">https://www.alexandriava.gov/subcom
 mittees/health-and-safety-coordinating-committee</a><br>\n
X-COA-DTSTAMP:20250917T171221Z
END:VEVENT
END:VCALENDAR
