BEGIN:VCALENDAR
CALSCALE:GREGORIAN
METHOD:PUBLISH
PRODID:-//github.com/ical-org/ical.net//NONSGML ical.net 4.0//EN
VERSION:2.0
X-WR-TIMEZONE:US/Eastern
BEGIN:VEVENT
CATEGORIES:Health
DESCRIPTION:To verify info please see https://apps.alexandriava.gov/Calend
 ar/Detail.aspx?si=59801\n\nThe purpose of the Health and Safety Coordinat
 ing Committee is to enable City-serving agencies to collaborate and use d
 ata to problem-solve with members of City Council on prevention and inter
 vention strategies that impact the overall health and safety of the commu
 nity.\n\nVirtual Option:\nWebinar ID:  929 3903 6182\nWebinar Passcode:  
 637585\nDial-in number: 301-715-8592\nRegistration: https://zoom.us/webin
 ar/register/WN_H07rjZ7ySfa1yYljJD68hw\n\n\nLocation: City Hall\, Room 190
 0\, 301 King St\nContact Person: Dana Wedeles\nContact Phone: 703.746.386
 2\nContact Email: dana.wedeles@alexandriava.gov\nAudience: Anyone may att
 end\nTags: Health\n\nWeb resources:\n\nhttps://www.alexandriava.gov/subco
 mmittees/health-and-safety-coordinating-committee\n
DTEND:20251114T143000Z
DTSTAMP:20250917T171106Z
DTSTART:20251114T133000Z
LOCATION:City Hall\, Room 1900\, 301 King St
SEQUENCE:6
STATUS:CONFIRMED
SUMMARY:Health and Safety Coordinating Committee
TRANSP:OPAQUE
UID:e126a7ab-4ffe-4b6e-afaa-2359a31ca7cb
URL:https://www.alexandriava.gov/subcommittees/health-and-safety-coordinat
 ing-committee
X-ALT-DESC;FMTTYPE=text/html:To verify info please see <a href="https://ap
 ps.alexandriava.gov/Calendar/Detail.aspx?si=59801">https://apps.alexandri
 ava.gov/Calendar/Detail.aspx?si=59801</a><br />\n<br />The purpose of the
  Health and Safety Coordinating Committee is to enable City-serving agenc
 ies to collaborate and use data to problem-solve with members of City Cou
 ncil on prevention and intervention strategies that impact the overall he
 alth and safety of the community.\n<br />\n<br />Virtual Option:\n<br />W
 ebinar ID:  929 3903 6182\n<br />Webinar Passcode:  637585\n<br />Dial-in
  number: 301-715-8592\n<br />Registration: https://zoom.us/webinar/regist
 er/WN_H07rjZ7ySfa1yYljJD68hw\n<br />\n<br />\n<br />Location: City Hall\,
  Room 1900\, 301 King St\n<br />Contact Person: Dana Wedeles\n<br />Conta
 ct Phone: 703.746.3862\n<br />Contact Email: dana.wedeles@alexandriava.go
 v\n<br />Audience: Anyone may attend\n<br />Tags: Health<br>\n<a href="ht
 tps://www.alexandriava.gov/subcommittees/health-and-safety-coordinating-c
 ommittee">https://www.alexandriava.gov/subcommittees/health-and-safety-co
 ordinating-committee</a><br>\n
X-COA-DTSTAMP:20250917T171106Z
END:VEVENT
END:VCALENDAR
