BEGIN:VCALENDAR
CALSCALE:GREGORIAN
METHOD:PUBLISH
PRODID:-//github.com/ical-org/ical.net//NONSGML ical.net 4.0//EN
VERSION:2.0
X-WR-TIMEZONE:US/Eastern
BEGIN:VEVENT
CATEGORIES:City Council
CATEGORIES:City Council Calendar
CATEGORIES:Council Meeting
DESCRIPTION:To verify info please see https://apps.alexandriava.gov/Calend
 ar/Detail.aspx?si=59777\n\nCity Council Town Hall\n\nLocation: Lee Center
 \, 1108 Jefferson St.\nContact Email: CouncilComment@alexandriava.gov\nAu
 dience: Anyone may attend\nTags: City Council\, City Council Calendar\, C
 ouncil Meeting\n\nWeb resources:\n\nRegister Now and Submit Your Question
 s\nhttps://www.surveymonkey.com/r/AlexandriaVA-TownHallNov5\n
DTEND:20251106T010000Z
DTSTAMP:20251027T123029Z
DTSTART:20251105T230000Z
GEO:38.797510;-77.053621
LOCATION:Lee Center\, 1108 Jefferson St.
SEQUENCE:10
STATUS:CANCELLED
SUMMARY:CANCELLED: City Council Town Hall
TRANSP:TRANSPARENT
UID:4d4031fd-171d-492e-89ce-d2264aa4771f
URL:https://www.surveymonkey.com/r/AlexandriaVA-TownHallNov5
X-ALT-DESC;FMTTYPE=text/html:To verify info please see <a href="https://ap
 ps.alexandriava.gov/Calendar/Detail.aspx?si=59777">https://apps.alexandri
 ava.gov/Calendar/Detail.aspx?si=59777</a><br />\n<br />City Council Town 
 Hall\n<br />\n<br />Location: Lee Center\, 1108 Jefferson St.\n<br />Cont
 act Email: CouncilComment@alexandriava.gov\n<br />Audience: Anyone may at
 tend\n<br />Tags: City Council\, City Council Calendar\, Council Meeting<
 br>\n<a href="https://www.surveymonkey.com/r/AlexandriaVA-TownHallNov5">R
 egister Now and Submit Your Questions</a><br>\n
X-COA-DTSTAMP:20251027T123029Z
END:VEVENT
END:VCALENDAR
