BEGIN:VCALENDAR
CALSCALE:GREGORIAN
METHOD:PUBLISH
PRODID:-//github.com/ical-org/ical.net//NONSGML ical.net 4.0//EN
VERSION:2.0
X-WR-TIMEZONE:US/Eastern
BEGIN:VEVENT
CATEGORIES:Alexandria West
CATEGORIES:Arts
CATEGORIES:Concerts
CATEGORIES:Farmers' Markets
CATEGORIES:Mobile Art Lab
CATEGORIES:Office of the Arts
CATEGORIES:Visual Arts
CATEGORIES:West End
DESCRIPTION:To verify info please see https://apps.alexandriava.gov/Calend
 ar/Detail.aspx?si=59766\n\nJoin us for a Pop-Up concert in a neighborhood
  near you. Featuring free art activations\, live jazz\, and spoken word a
 rtists celebrating America's original art form.\n\n12-4 PM | Mobile Art L
 ab activations\n2-4 PM | Jazz and poetry with Prophecy Poet & Alex Parchm
 ent\n\nThe Farmer's Market runs 10 AM-3 PM\n\nThe Jazz Fest Pop-Up perfor
 mance runs 2-4 PM\n\nLocation: Southern Towers Farmers' Market\nContact P
 erson: Daniel Guzman\nContact Phone: 703.746.5419\nContact Email: daniel.
 guzman@alexandriava.gov\nAudience: Anyone may attend\nTags: Alexandria We
 st\, Arts\, Concerts\, Farmers' Markets\, Mobile Art Lab\, Office of the 
 Arts\, Visual Arts\, West End
DTEND:20250907T200000Z
DTSTAMP:20250905T223417Z
DTSTART:20250907T160000Z
LOCATION:Southern Towers Farmers' Market
SEQUENCE:10
STATUS:CONFIRMED
SUMMARY:ALX Jazz Fest Pop Up @ Market at Southern Towers
TRANSP:OPAQUE
UID:b4fa2471-e9b1-46d1-8586-a41e280be59b
X-ALT-DESC;FMTTYPE=text/html:To verify info please see <a href="https://ap
 ps.alexandriava.gov/Calendar/Detail.aspx?si=59766">https://apps.alexandri
 ava.gov/Calendar/Detail.aspx?si=59766</a><br />\n<br />Join us for a Pop-
 Up concert in a neighborhood near you. Featuring free art activations\, l
 ive jazz\, and spoken word artists celebrating America?s original art for
 m.\n<br />\n<br />12?4 PM | Mobile Art Lab activations\n<br />2?4 PM | Ja
 zz and poetry with Prophecy Poet &amp\; Alex Parchment\n<br />\n<br />The
  Farmer?s Market runs 10 AM?3 PM\n<br />\n<br />The Jazz Fest Pop-Up perf
 ormance runs 2?4 PM\n<br />\n<br />Location: Southern Towers Farmers&#39\
 ; Market\n<br />Contact Person: Daniel Guzman\n<br />Contact Phone: 703.7
 46.5419\n<br />Contact Email: daniel.guzman@alexandriava.gov\n<br />Audie
 nce: Anyone may attend\n<br />Tags: Alexandria West\, Arts\, Concerts\, F
 armers&#39\; Markets\, Mobile Art Lab\, Office of the Arts\, Visual Arts\
 , West End
X-COA-DTSTAMP:20250905T223417Z
END:VEVENT
END:VCALENDAR
