BEGIN:VCALENDAR
CALSCALE:GREGORIAN
METHOD:PUBLISH
PRODID:-//github.com/ical-org/ical.net//NONSGML ical.net 4.0//EN
VERSION:2.0
X-WR-TIMEZONE:US/Eastern
BEGIN:VEVENT
CATEGORIES:Arts
CATEGORIES:Holiday Event
CATEGORIES:Office of the Arts
DESCRIPTION:To verify info please see https://apps.alexandriava.gov/Calend
 ar/Detail.aspx?si=59765\n\nGet ready to celebrate the holidays at A Very 
 Merry ALX Jazz Fest - a festive gathering of music\, art\, and poetry! \n
 \nLocation: George Washington Masonic Memorial\nContact Person: Daniel Gu
 zman\nContact Phone: 703.746.5419\nContact Email: daniel.guzman@alexandri
 ava.gov\nAudience: Anyone may attend\nTags: Arts\, Holiday Event\, Office
  of the Arts\n\nWeb resources:\n\nRSVP Here\nhttps://www.eventbrite.com/e
 /a-very-merry-alx-jazz-fest-tickets-1858541249909\n
DTEND:20251213T010000Z
DTSTAMP:20251118T225404Z
DTSTART:20251212T220000Z
GEO:38.807611;-77.065508
LOCATION:George Washington Masonic Memorial
SEQUENCE:7
STATUS:CONFIRMED
SUMMARY:Very Merry ALX Jazz Fest at the Masonic Memorial
TRANSP:OPAQUE
UID:db8123e2-78d3-4f5d-8735-44918d56efb9
URL:https://www.eventbrite.com/e/a-very-merry-alx-jazz-fest-tickets-185854
 1249909
X-ALT-DESC;FMTTYPE=text/html:To verify info please see <a href="https://ap
 ps.alexandriava.gov/Calendar/Detail.aspx?si=59765">https://apps.alexandri
 ava.gov/Calendar/Detail.aspx?si=59765</a><br />\n<br />Get ready to celeb
 rate the holidays at A Very Merry ALX Jazz Fest - a festive gathering of 
 music\, art\, and poetry! \n<br />\n<br />Location: George Washington Mas
 onic Memorial\n<br />Contact Person: Daniel Guzman\n<br />Contact Phone: 
 703.746.5419\n<br />Contact Email: daniel.guzman@alexandriava.gov\n<br />
 Audience: Anyone may attend\n<br />Tags: Arts\, Holiday Event\, Office of
  the Arts<br>\n<a href="https://www.eventbrite.com/e/a-very-merry-alx-jaz
 z-fest-tickets-1858541249909">RSVP Here</a><br>\n
X-COA-DTSTAMP:20251118T225404Z
END:VEVENT
END:VCALENDAR
