BEGIN:VCALENDAR
CALSCALE:GREGORIAN
METHOD:PUBLISH
PRODID:-//github.com/ical-org/ical.net//NONSGML ical.net 4.0//EN
VERSION:2.0
X-WR-TIMEZONE:US/Eastern
BEGIN:VEVENT
CATEGORIES:DCHS
DESCRIPTION:To verify info please see https://apps.alexandriava.gov/Calend
 ar/Detail.aspx?si=59757\n\nA workshop for adults who care about our youth
 \, their future and our community's well being. This workshop explores an
 d dissects the Developmental Assets Framework for positive youth developm
 ent.\n\nSponsored by the Alexandria Youth Services Coordinating Council\n
 \nRegistration Link: zoom.us/meeting/register/Ve_jwqbwSNKME9VStmvGDA\n\nF
 or reasonable disability accommodation\, contact christina.damhuis@alexan
 driava.gov or 703.746.5694 or call Virginia Relay 711.\n\nLocation:  Virt
 ual Only\nAudience: Anyone may attend\nTags: DCHS
DTEND:20250827T160000Z
DTSTAMP:20250728T173119Z
DTSTART:20250827T140000Z
LOCATION: Virtual Only
SEQUENCE:6
STATUS:CONFIRMED
SUMMARY:Everyone's an Asset Builder Training
TRANSP:OPAQUE
UID:d58828b6-9a9e-4185-b50b-d6a4e0f70f97
X-ALT-DESC;FMTTYPE=text/html:To verify info please see <a href="https://ap
 ps.alexandriava.gov/Calendar/Detail.aspx?si=59757">https://apps.alexandri
 ava.gov/Calendar/Detail.aspx?si=59757</a><br />\n<br />A workshop for adu
 lts who care about our youth\, their future and our community&#39\;s well
  being. This workshop explores and dissects the Developmental Assets Fram
 ework for positive youth development.\n<br />\n<br />Sponsored by the Ale
 xandria Youth Services Coordinating Council\n<br />\n<br />Registration L
 ink: zoom.us/meeting/register/Ve_jwqbwSNKME9VStmvGDA\n<br />\n<br />For r
 easonable disability accommodation\, contact christina.damhuis@alexandria
 va.gov or 703.746.5694 or call Virginia Relay 711.\n<br />\n<br />Locatio
 n:  Virtual Only\n<br />Audience: Anyone may attend\n<br />Tags: DCHS
X-COA-DTSTAMP:20250728T173119Z
END:VEVENT
END:VCALENDAR
