BEGIN:VCALENDAR
CALSCALE:GREGORIAN
METHOD:PUBLISH
PRODID:-//github.com/ical-org/ical.net//NONSGML ical.net 4.0//EN
VERSION:2.0
X-WR-TIMEZONE:US/Eastern
BEGIN:VEVENT
CATEGORIES:Boards & Commissions
CATEGORIES:Commission Meeting
CATEGORIES:Museums
CATEGORIES:Parade
DESCRIPTION:To verify info please see https://apps.alexandriava.gov/Calend
 ar/Detail.aspx?si=59752\n\nAn in-person meeting of the George Washington 
 Birthday Celebration Committee (GWBCC).\n\nLocation: Lloyd House\, 220 N.
  Washington St.\nAudience: Anyone may attend\nTags: Boards & Commissions\
 , Commission Meeting\, Museums\, Parade\n\nWeb resources:\n\nMeeting agen
 da\nhttps://www.alexandriava.gov/sites/default/files/2025-08/gwbccagenda2
 0250818_0.pdf\n
DTEND:20250819T010000Z
DTSTAMP:20250812T152516Z
DTSTART:20250818T230000Z
GEO:38.807209;-77.046797
LOCATION:Lloyd House\, 220 N. Washington St.
SEQUENCE:7
STATUS:CONFIRMED
SUMMARY:George Washington Birthday Celebration Committee
TRANSP:OPAQUE
UID:a1741bbb-d30d-41a4-8f64-74a49c74ca8b
URL:https://www.alexandriava.gov/sites/default/files/2025-08/gwbccagenda20
 250818_0.pdf
X-ALT-DESC;FMTTYPE=text/html:To verify info please see <a href="https://ap
 ps.alexandriava.gov/Calendar/Detail.aspx?si=59752">https://apps.alexandri
 ava.gov/Calendar/Detail.aspx?si=59752</a><br />\n<br />An in-person meeti
 ng of the George Washington Birthday Celebration Committee (GWBCC).\n<br 
 />\n<br />Location: Lloyd House\, 220 N. Washington St.\n<br />Audience: 
 Anyone may attend\n<br />Tags: Boards &amp\; Commissions\, Commission Mee
 ting\, Museums\, Parade<br>\n<a href="https://www.alexandriava.gov/sites/
 default/files/2025-08/gwbccagenda20250818_0.pdf">Meeting agenda</a><br>\n
X-COA-DTSTAMP:20250812T152516Z
END:VEVENT
END:VCALENDAR
