BEGIN:VCALENDAR
CALSCALE:GREGORIAN
METHOD:PUBLISH
PRODID:-//github.com/ical-org/ical.net//NONSGML ical.net 4.0//EN
VERSION:2.0
X-WR-TIMEZONE:US/Eastern
BEGIN:VEVENT
CATEGORIES:Boards & Commissions
CATEGORIES:City Hall
CATEGORIES:Museums
CATEGORIES:Sister Cities
DESCRIPTION:To verify info please see https://apps.alexandriava.gov/Calend
 ar/Detail.aspx?si=59751\n\nAn in-person meeting of the Alexandria Sister 
 Cities Committee - Dundee and Helsingborg.\n\nLocation: City Hall\, Siste
 r Cities Room 1101\, 301 King St.\nAudience: Anyone may attend\nTags: Boa
 rds & Commissions\, City Hall\, Museums\, Sister Cities\n\nWeb resources:
 \n\nMeeting agenda\nhttps://www.alexandriava.gov/sites/default/files/2025
 -08/sccagenda20250818_0.pdf\n
DTEND:20250819T003000Z
DTSTAMP:20250814T135314Z
DTSTART:20250818T230000Z
GEO:38.805537;-77.042758
LOCATION:City Hall\, Sister Cities Room 1101\, 301 King St.
SEQUENCE:8
STATUS:CONFIRMED
SUMMARY:Alexandria Sister Cities Committee
TRANSP:OPAQUE
UID:38b40710-63e7-43b0-b07b-cc62ad8965a4
URL:https://www.alexandriava.gov/sites/default/files/2025-08/sccagenda2025
 0818_0.pdf
X-ALT-DESC;FMTTYPE=text/html:To verify info please see <a href="https://ap
 ps.alexandriava.gov/Calendar/Detail.aspx?si=59751">https://apps.alexandri
 ava.gov/Calendar/Detail.aspx?si=59751</a><br />\n<br />An in-person meeti
 ng of the Alexandria Sister Cities Committee - Dundee and Helsingborg.\n<
 br />\n<br />Location: City Hall\, Sister Cities Room 1101\, 301 King St.
 \n<br />Audience: Anyone may attend\n<br />Tags: Boards &amp\; Commission
 s\, City Hall\, Museums\, Sister Cities<br>\n<a href="https://www.alexand
 riava.gov/sites/default/files/2025-08/sccagenda20250818_0.pdf">Meeting ag
 enda</a><br>\n
X-COA-DTSTAMP:20250814T135314Z
END:VEVENT
END:VCALENDAR
