BEGIN:VCALENDAR
CALSCALE:GREGORIAN
METHOD:PUBLISH
PRODID:-//github.com/ical-org/ical.net//NONSGML ical.net 4.0//EN
VERSION:2.0
X-WR-TIMEZONE:US/Eastern
BEGIN:VEVENT
CATEGORIES:Employment
CATEGORIES:Human Resources
DESCRIPTION:To verify info please see https://apps.alexandriava.gov/Calend
 ar/Detail.aspx?si=59744\n\nResources will include:\n- City of Alexandria 
 Hiring Departments\n- Free Headshots & Resume Workshop (Limited Space so 
 Register Today!)\n- Virginia Employment Commission and COA's Financial Li
 teracy Program Representatives\n\nLocation: Del Pepper Community Resource
  Center\, 4850 Mark Center Drive\nAudience: Anyone may attend\nTags: Empl
 oyment\, Human Resources\n\nWeb resources:\n\nRegistration Link\nhttps://
 forms.office.com/pages/responsepage.aspx?id=MZuq_nVD7kqtzMdq0yqJC1S92vpNv
 IhGqFaxWJ4B5ydUM01ESlJVU0pCVEI5UkdKUEtKOTNQOFRYOC4u&route=shorturl\nUse t
 his link to register for event updates\, a free headshot\, and the resume
  workshop.\n
DTEND:20250826T180000Z
DTSTAMP:20250811T143733Z
DTSTART:20250826T150000Z
LOCATION:Del Pepper Community Resource Center\, 4850 Mark Center Drive
SEQUENCE:6
STATUS:CONFIRMED
SUMMARY:City of Alexandria Job Fair
TRANSP:TRANSPARENT
UID:652d8764-c65a-4519-8427-232e15c59bd4
URL:https://forms.office.com/pages/responsepage.aspx?id=MZuq_nVD7kqtzMdq0y
 qJC1S92vpNvIhGqFaxWJ4B5ydUM01ESlJVU0pCVEI5UkdKUEtKOTNQOFRYOC4u&route=shor
 turl
X-ALT-DESC;FMTTYPE=text/html:To verify info please see <a href="https://ap
 ps.alexandriava.gov/Calendar/Detail.aspx?si=59744">https://apps.alexandri
 ava.gov/Calendar/Detail.aspx?si=59744</a><br />\n<br />Resources will inc
 lude:\n<br />- City of Alexandria Hiring Departments\n<br />- Free Headsh
 ots &amp\; Resume Workshop (Limited Space so Register Today!)\n<br />- Vi
 rginia Employment Commission and COA?s Financial Literacy Program Represe
 ntatives\n<br />\n<br />Location: Del Pepper Community Resource Center\, 
 4850 Mark Center Drive\n<br />Audience: Anyone may attend\n<br />Tags: Em
 ployment\, Human Resources<br>\n<a href="https://forms.office.com/pages/r
 esponsepage.aspx?id=MZuq_nVD7kqtzMdq0yqJC1S92vpNvIhGqFaxWJ4B5ydUM01ESlJVU
 0pCVEI5UkdKUEtKOTNQOFRYOC4u&amp\;route=shorturl">Registration Link</a><br
 >\nUse this link to register for event updates\, a free headshot\, and th
 e resume workshop.<br>\n
X-COA-DTSTAMP:20250811T143733Z
END:VEVENT
END:VCALENDAR
