BEGIN:VCALENDAR
CALSCALE:GREGORIAN
METHOD:PUBLISH
PRODID:-//github.com/ical-org/ical.net//NONSGML ical.net 4.0//EN
VERSION:2.0
X-WR-TIMEZONE:US/Eastern
BEGIN:VEVENT
CATEGORIES:Community Engagement
CATEGORIES:Community Meeting
CATEGORIES:Community Outreach
CATEGORIES:Duke Street Land Use Plan
CATEGORIES:West End
DESCRIPTION:To verify info please see https://apps.alexandriava.gov/Calend
 ar/Detail.aspx?si=59736\n\nJoin us at ALDI Supermarket (4580 Duke St\, Al
 exandria\, VA 22304) to learn more about the Duke Street Land Use Plan pr
 ocess and share your feedback!\n\nFor more information\, visit alexandria
 va.gov/DukeStreetPlan.\n\nAdditional Questions?\nContact Christian Brandt
 \,\nUrban Planner | 703.746.3859\nChristian.Brandt@alexandriava.gov\n\nLo
 cation: ALDI\nContact Person: Christian Brandt\nContact Phone: 703.746.38
 59\nContact Email: christian.brandt@alexandriava.gov\nAudience: Anyone ma
 y attend\nTags: Community Engagement\, Community Meeting\, Community Outr
 each\, Duke Street Land Use Plan\, West End
DTEND:20250802T173000Z
DTSTAMP:20250716T142037Z
DTSTART:20250802T133000Z
LOCATION:ALDI
SEQUENCE:5
STATUS:CONFIRMED
SUMMARY:Duke Street Land Use Plan Pop-Up
TRANSP:TRANSPARENT
UID:34e2709c-08a2-45a4-acb4-1ec69d6bd9ab
X-ALT-DESC;FMTTYPE=text/html:To verify info please see <a href="https://ap
 ps.alexandriava.gov/Calendar/Detail.aspx?si=59736">https://apps.alexandri
 ava.gov/Calendar/Detail.aspx?si=59736</a><br />\n<br />Join us at ALDI Su
 permarket (4580 Duke St\, Alexandria\, VA 22304) to learn more about the 
 Duke Street Land Use Plan process and share your feedback!\n<br />\n<br /
 >For more information\, visit alexandriava.gov/DukeStreetPlan.\n<br />\n<
 br />Additional Questions?\n<br />Contact Christian Brandt\,\n<br />Urban
  Planner | 703.746.3859\n<br />Christian.Brandt@alexandriava.gov\n<br />\
 n<br />Location: ALDI\n<br />Contact Person: Christian Brandt\n<br />Cont
 act Phone: 703.746.3859\n<br />Contact Email: christian.brandt@alexandria
 va.gov\n<br />Audience: Anyone may attend\n<br />Tags: Community Engageme
 nt\, Community Meeting\, Community Outreach\, Duke Street Land Use Plan\,
  West End
X-COA-DTSTAMP:20250716T142037Z
END:VEVENT
END:VCALENDAR
