BEGIN:VCALENDAR
CALSCALE:GREGORIAN
METHOD:PUBLISH
PRODID:-//github.com/ical-org/ical.net//NONSGML ical.net 4.0//EN
VERSION:2.0
X-WR-TIMEZONE:US/Eastern
BEGIN:VEVENT
CATEGORIES:Family
CATEGORIES:Mentoring Event
CATEGORIES:Recreation
CATEGORIES:Teens
CATEGORIES:Women
CATEGORIES:Youth
DESCRIPTION:To verify info please see https://apps.alexandriava.gov/Calend
 ar/Detail.aspx?si=59718\n\nBecome a mentor with Space of Her Own (SOHO)! 
 \n\nAlexandria's award-winning SOHO program seeks a team of creative\, cu
 lturally diverse\, caring women to volunteer as mentors for the 2025-2026
  school year. \n\nWe hope you'll join us for an information session to le
 arn more about how our program is structured\, our expectations for mento
 rs\, the girls we serve\, and how YOU can apply to become a SOHO mentor!\
 n\nLocation: Nannie J. Lee Recreation Center\, 1108 Jefferson St.\nAudien
 ce: Anyone may attend\nTags: Family\, Mentoring Event\, Recreation\, Teen
 s\, Women\, Youth\n\nWeb resources:\n\nRSVP Here\nhttps://www.eventbrite.
 com/e/2025-space-of-her-own-soho-mentor-information-session-july-29-ticke
 ts-1419949078919\n\nLearn more about mentoring in Alexandria\nhttps://www
 .alexandriava.gov/Mentoring\n
DTEND:20250730T223000Z
DTSTAMP:20250708T132012Z
DTSTART:20250730T213000Z
GEO:38.796407;-77.054318
LOCATION:Nannie J. Lee Recreation Center\, 1108 Jefferson St.
SEQUENCE:6
STATUS:CONFIRMED
SUMMARY:Mentor Information Session for Space of Her Own
TRANSP:OPAQUE
UID:186aaf68-b103-40b3-bd1e-6e101df07441
URL:https://www.eventbrite.com/e/2025-space-of-her-own-soho-mentor-informa
 tion-session-july-29-tickets-1419949078919
X-ALT-DESC;FMTTYPE=text/html:To verify info please see <a href="https://ap
 ps.alexandriava.gov/Calendar/Detail.aspx?si=59718">https://apps.alexandri
 ava.gov/Calendar/Detail.aspx?si=59718</a><br />\n<br />Become a mentor wi
 th Space of Her Own (SOHO)! \n<br />\n<br />Alexandria&#39\;s award-winni
 ng SOHO program seeks a team of creative\, culturally diverse\, caring wo
 men to volunteer as mentors for the 2025-2026 school year. \n<br />\n<br 
 />We hope you&#39\;ll join us for an information session to learn more ab
 out how our program is structured\, our expectations for mentors\, the gi
 rls we serve\, and how YOU can apply to become a SOHO mentor!\n<br />\n<b
 r />Location: Nannie J. Lee Recreation Center\, 1108 Jefferson St.\n<br /
 >Audience: Anyone may attend\n<br />Tags: Family\, Mentoring Event\, Recr
 eation\, Teens\, Women\, Youth<br>\n<a href="https://www.eventbrite.com/e
 /2025-space-of-her-own-soho-mentor-information-session-july-29-tickets-14
 19949078919">RSVP Here</a><br>\n<a href="https://www.alexandriava.gov/Men
 toring">Learn more about mentoring in Alexandria</a><br>\n
X-COA-DTSTAMP:20250708T132012Z
END:VEVENT
END:VCALENDAR
