BEGIN:VCALENDAR
CALSCALE:GREGORIAN
METHOD:PUBLISH
PRODID:-//github.com/ical-org/ical.net//NONSGML ical.net 4.0//EN
VERSION:2.0
X-WR-TIMEZONE:US/Eastern
BEGIN:VEVENT
CATEGORIES:Affordable Housing
CATEGORIES:Boards & Commissions
CATEGORIES:City Hall
CATEGORIES:Commission Meeting
CATEGORIES:Housing2040
DESCRIPTION:To verify info please see https://apps.alexandriava.gov/Calend
 ar/Detail.aspx?si=59714\n\nMonthly meeting of the Alexandria Housing Affo
 rdability Advisory Committee.\n\nLocation: City Hall\, Room 2000\, 301 Ki
 ng St.\nContact Person: Chris Do\nContact Phone: 703.746.3084\nContact Em
 ail: christopher.do@alexandriava.gov\nAudience: Anyone may attend\nTags: 
 Affordable Housing\, Boards & Commissions\, City Hall\, Commission Meetin
 g\, Housing2040\n\nWeb resources:\n\nSeptember 2025 AHAAC Packet\nhttps:/
 /www.alexandriava.gov/sites/default/files/2025-08/september_2025_ahaac_pa
 cket.pdf\n\nhttp://alexandriava.gov/housing\n
DTEND:20250905T010000Z
DTSTAMP:20250829T203220Z
DTSTART:20250904T230000Z
GEO:38.805587;-77.042801
LOCATION:City Hall\, Room 2000\, 301 King St.
SEQUENCE:8
STATUS:CONFIRMED
SUMMARY:Housing Affordability Advisory Committee
TRANSP:OPAQUE
UID:f0b42a04-2829-4571-97c8-53eed30815d5
URL:https://www.alexandriava.gov/sites/default/files/2025-08/september_202
 5_ahaac_packet.pdf
X-ALT-DESC;FMTTYPE=text/html:To verify info please see <a href="https://ap
 ps.alexandriava.gov/Calendar/Detail.aspx?si=59714">https://apps.alexandri
 ava.gov/Calendar/Detail.aspx?si=59714</a><br />\n<br />Monthly meeting of
  the Alexandria Housing Affordability Advisory Committee.\n<br />\n<br />
 Location: City Hall\, Room 2000\, 301 King St.\n<br />Contact Person: Chr
 is Do\n<br />Contact Phone: 703.746.3084\n<br />Contact Email: christophe
 r.do@alexandriava.gov\n<br />Audience: Anyone may attend\n<br />Tags: Aff
 ordable Housing\, Boards &amp\; Commissions\, City Hall\, Commission Meet
 ing\, Housing2040<br>\n<a href="https://www.alexandriava.gov/sites/defaul
 t/files/2025-08/september_2025_ahaac_packet.pdf">September 2025 AHAAC Pac
 ket</a><br>\n<a href="http://alexandriava.gov/housing">http://alexandriav
 a.gov/housing</a><br>\n
X-COA-DTSTAMP:20250829T203220Z
END:VEVENT
END:VCALENDAR
