BEGIN:VCALENDAR
CALSCALE:GREGORIAN
METHOD:PUBLISH
PRODID:-//github.com/ical-org/ical.net//NONSGML ical.net 4.0//EN
VERSION:2.0
X-WR-TIMEZONE:US/Eastern
BEGIN:VEVENT
CATEGORIES:Boards & Commissions
CATEGORIES:Commission Meeting
CATEGORIES:Museums
DESCRIPTION:To verify info please see https://apps.alexandriava.gov/Calend
 ar/Detail.aspx?si=59699\n\nIn-person Meeting\n\nLocation: Lloyd House\, 2
 20 N. Washington St.\nAudience: Anyone may attend\nTags: Boards & Commiss
 ions\, Commission Meeting\, Museums\n\nWeb resources:\n\nMeeting agenda\n
 https://media.alexandriava.gov/content/oha/HARCAgenda20250715.pdf\n
DTEND:20250716T010000Z
DTSTAMP:20250711T162047Z
DTSTART:20250715T230000Z
GEO:38.807209;-77.046797
LOCATION:Lloyd House\, 220 N. Washington St.
SEQUENCE:6
STATUS:CONFIRMED
SUMMARY:Historic Alex Resources Commission Meeting
TRANSP:OPAQUE
UID:1f799eab-00af-4c92-b6a5-9f00babc6632
URL:https://media.alexandriava.gov/content/oha/HARCAgenda20250715.pdf
X-ALT-DESC;FMTTYPE=text/html:To verify info please see <a href="https://ap
 ps.alexandriava.gov/Calendar/Detail.aspx?si=59699">https://apps.alexandri
 ava.gov/Calendar/Detail.aspx?si=59699</a><br />\n<br />In-person Meeting\
 n<br />\n<br />Location: Lloyd House\, 220 N. Washington St.\n<br />Audie
 nce: Anyone may attend\n<br />Tags: Boards &amp\; Commissions\, Commissio
 n Meeting\, Museums<br>\n<a href="https://media.alexandriava.gov/content/
 oha/HARCAgenda20250715.pdf">Meeting agenda</a><br>\n
X-COA-DTSTAMP:20250711T162047Z
END:VEVENT
END:VCALENDAR
