BEGIN:VCALENDAR
CALSCALE:GREGORIAN
METHOD:PUBLISH
PRODID:-//github.com/ical-org/ical.net//NONSGML ical.net 4.0//EN
VERSION:2.0
X-WR-TIMEZONE:US/Eastern
BEGIN:VEVENT
CATEGORIES:Boards & Commissions
CATEGORIES:Commission Meeting
CATEGORIES:Historic Preservation
CATEGORIES:Museums
DESCRIPTION:To verify info please see https://apps.alexandriava.gov/Calend
 ar/Detail.aspx?si=59697\n\nAn in-person meeting of the Alexandria Histori
 cal Restoration and Preservation Commission. \n\nLocation: Lloyd House\, 
 220 N. Washington St.\nAudience: Anyone may attend\nTags: Boards & Commis
 sions\, Commission Meeting\, Historic Preservation\, Museums\n\nWeb resou
 rces:\n\nMeeting agenda\nhttps://media.alexandriava.gov/content/oha/AHRPC
 Agenda20250709.pdf\n
DTEND:20250709T131500Z
DTSTAMP:20250703T172632Z
DTSTART:20250709T120000Z
GEO:38.807209;-77.046797
LOCATION:Lloyd House\, 220 N. Washington St.
SEQUENCE:6
STATUS:CONFIRMED
SUMMARY:Historic Restoration and Preservation Commission
TRANSP:OPAQUE
UID:4dc34143-801b-4c2a-b527-b853b0fc82cd
URL:https://media.alexandriava.gov/content/oha/AHRPCAgenda20250709.pdf
X-ALT-DESC;FMTTYPE=text/html:To verify info please see <a href="https://ap
 ps.alexandriava.gov/Calendar/Detail.aspx?si=59697">https://apps.alexandri
 ava.gov/Calendar/Detail.aspx?si=59697</a><br />\n<br />An in-person meeti
 ng of the Alexandria Historical Restoration and Preservation Commission. 
 \n<br />\n<br />Location: Lloyd House\, 220 N. Washington St.\n<br />Audi
 ence: Anyone may attend\n<br />Tags: Boards &amp\; Commissions\, Commissi
 on Meeting\, Historic Preservation\, Museums<br>\n<a href="https://media.
 alexandriava.gov/content/oha/AHRPCAgenda20250709.pdf">Meeting agenda</a><
 br>\n
X-COA-DTSTAMP:20250703T172632Z
END:VEVENT
END:VCALENDAR
