BEGIN:VCALENDAR
CALSCALE:GREGORIAN
METHOD:PUBLISH
PRODID:-//github.com/ical-org/ical.net//NONSGML ical.net 4.0//EN
VERSION:2.0
X-WR-TIMEZONE:US/Eastern
BEGIN:VEVENT
CATEGORIES:ADA
CATEGORIES:Boards & Commissions
CATEGORIES:Commission Meeting
DESCRIPTION:To verify info please see https://apps.alexandriava.gov/Calend
 ar/Detail.aspx?si=59696\n\nCOMMISSION ON PERSONS WITH DISABILITIES\nWedne
 sday\, July 9\, 2025 - 7:00 pm \nCity Hall\, 301 King Street\, Chet & Sab
 re Avery Room 2000\n\n MEETING AGENDA\n\n1.	Call to Order / Roll / Introd
 uctions - 5 mins\n2.	Approval of Agenda - 1 min\n3.	Acting on Minutes (Ap
 ril) - 2 min\n4.	Public Comment - 3 mins per person\n5.	Chair's Report - 
 Megan Prince - 5 mins\n6.	Guest speaker(s):\nEric Keeler- Deputy Director
 \; Christopher Do- Housing Analyst\, Office of Housing\nHousing 2040 Mast
 er Plan Presentation- 40 min\n\n7.	Committee Reports:\n?	Executive Commit
 tee - Megan Prince\n?	Legislative Committee - Open\n?	Housing Committee -
  Kristen Creighton\n?	Accessibility-Friendly Businesses - Deanne McNulty 
 \n?	Board of Architectural Review Committee - Jacob Griffin\n?	Disability
  PRIDE Month Committee -Alex Radt\, Kristen Creighton\, Huayra Forster \n
 \n8.	Liaison Reports: \n?	Human Rights Commission - Megan Prince\n?	AHAAC
  - Open\n\n9.	Action Item(s):\n\n?	Process to become liaison to AHAAC\n?	
 City Hall Renovation/ Boards and Commissions Meetings to Relocate\n\n10.	
 ACPD Member Reports - 2 mins per member\n11.	Adjournment\nFor reasonable 
 disability accommodation\, contact Delante.Wade@alexandriava.gov\nor 703.
 746.3140\, Virginia Relay 711.\n\n\nLocation: City Hall\, Room 2000\, 301
  King St.\nContact Person: Delante Wade\nContact Phone: 703.746.3148\nAud
 ience: Anyone may attend\nTags: ADA\, Boards & Commissions\, Commission M
 eeting
DTEND:20250710T010000Z
DTSTAMP:20250709T144936Z
DTSTART:20250709T230000Z
GEO:38.805587;-77.042801
LOCATION:City Hall\, Room 2000\, 301 King St.
SEQUENCE:23
STATUS:CONFIRMED
SUMMARY:ACPD Monthly Meeting
TRANSP:TRANSPARENT
UID:bfadb851-3ca7-4d90-88b6-fb31e5350715
X-ALT-DESC;FMTTYPE=text/html:To verify info please see <a href="https://ap
 ps.alexandriava.gov/Calendar/Detail.aspx?si=59696">https://apps.alexandri
 ava.gov/Calendar/Detail.aspx?si=59696</a><br />\n<br />COMMISSION ON PERS
 ONS WITH DISABILITIES\n<br />Wednesday\, July 9\, 2025 ? 7:00 pm \n<br />
 City Hall\, 301 King Street\, Chet &amp\; Sabre Avery Room 2000\n<br />\n
 <br /> MEETING AGENDA\n<br />\n<br />1.	Call to Order / Roll / Introducti
 ons ? 5 mins\n<br />2.	Approval of Agenda ? 1 min\n<br />3.	Acting on Min
 utes (April) ? 2 min\n<br />4.	Public Comment ? 3 mins per person\n<br />
 5.	Chair?s Report ? Megan Prince ? 5 mins\n<br />6.	Guest speaker(s):\n<b
 r />Eric Keeler- Deputy Director\; Christopher Do- Housing Analyst\, Offi
 ce of Housing\n<br />Housing 2040 Master Plan Presentation- 40 min\n<br /
 >\n<br />7.	Committee Reports:\n<br />?	Executive Committee ? Megan Princ
 e\n<br />?	Legislative Committee ? Open\n<br />?	Housing Committee ? Kris
 ten Creighton\n<br />?	Accessibility-Friendly Businesses ? Deanne McNulty
  \n<br />?	Board of Architectural Review Committee ? Jacob Griffin\n<br /
 >?	Disability PRIDE Month Committee -Alex Radt\, Kristen Creighton\, Huay
 ra Forster \n<br />\n<br />8.	Liaison Reports: \n<br />?	Human Rights Com
 mission ? Megan Prince\n<br />?	AHAAC ? Open\n<br />\n<br />9.	Action Ite
 m(s):\n<br />\n<br />?	Process to become liaison to AHAAC\n<br />?	City H
 all Renovation/ Boards and Commissions Meetings to Relocate\n<br />\n<br 
 />10.	ACPD Member Reports ? 2 mins per member\n<br />11.	Adjournment\n<br
  />For reasonable disability accommodation\, contact Delante.Wade@alexand
 riava.gov\n<br />or 703.746.3140\, Virginia Relay 711.\n<br />\n<br />\n<
 br />Location: City Hall\, Room 2000\, 301 King St.\n<br />Contact Person
 : Delante Wade\n<br />Contact Phone: 703.746.3148\n<br />Audience: Anyone
  may attend\n<br />Tags: ADA\, Boards &amp\; Commissions\, Commission Mee
 ting
X-COA-DTSTAMP:20250709T144936Z
END:VEVENT
END:VCALENDAR
