BEGIN:VCALENDAR
CALSCALE:GREGORIAN
METHOD:PUBLISH
PRODID:-//github.com/ical-org/ical.net//NONSGML ical.net 4.0//EN
VERSION:2.0
X-WR-TIMEZONE:US/Eastern
BEGIN:VEVENT
CATEGORIES:Community Engagement
DESCRIPTION:To verify info please see https://apps.alexandriava.gov/Calend
 ar/Detail.aspx?si=59670\n\nJoin RPCA for free food\, games\, activities \
 , giveaways\, connect with city resources and more! \nThe Location for th
 is event is Andrew Adkins Public Housing Community\n700 N. Fayette Street
 \, Alexandria\, VA\n\n\nLocation:  No Location Specified\nContact Person:
  Michael Johnson \nContact Phone: 703.898.5115\nContact Email: michael.jo
 hnson@alexandriava.gov\nAudience: Anyone may attend\nTags: Community Enga
 gement
DTEND:20250709T233000Z
DTSTAMP:20250707T152119Z
DTSTART:20250709T220000Z
SEQUENCE:8
STATUS:CONFIRMED
SUMMARY:Community Cookout Andrew Adkins Public Housing
TRANSP:TRANSPARENT
UID:00129ed1-2224-492c-835d-68a9774ff454
X-ALT-DESC;FMTTYPE=text/html:To verify info please see <a href="https://ap
 ps.alexandriava.gov/Calendar/Detail.aspx?si=59670">https://apps.alexandri
 ava.gov/Calendar/Detail.aspx?si=59670</a><br />\n<br />Join RPCA for free
  food\, games\, activities \, giveaways\, connect with city resources and
  more! \n<br />The Location for this event is Andrew Adkins Public Housin
 g Community\n<br />700 N. Fayette Street\, Alexandria\, VA\n<br />\n<br /
 >\n<br />Location:  No Location Specified\n<br />Contact Person: Michael 
 Johnson \n<br />Contact Phone: 703.898.5115\n<br />Contact Email: michael
 .johnson@alexandriava.gov\n<br />Audience: Anyone may attend\n<br />Tags:
  Community Engagement
X-COA-DTSTAMP:20250707T152119Z
END:VEVENT
END:VCALENDAR
