BEGIN:VCALENDAR
CALSCALE:GREGORIAN
METHOD:PUBLISH
PRODID:-//github.com/ical-org/ical.net//NONSGML ical.net 4.0//EN
VERSION:2.0
X-WR-TIMEZONE:US/Eastern
BEGIN:VEVENT
DESCRIPTION:To verify info please see https://apps.alexandriava.gov/Calend
 ar/Detail.aspx?si=59669\n\nJoin RPCA for free food\, games\, activities \
 , giveaways\, connect with city resources and more! \n\nLocation: Fairlin
 gton Presbyterian Church\nContact Person: Michael Johnson \nContact Phone
 : 703.898.5115\nContact Email: michael.johnson@alexandriava.gov\nAudience
 : Anyone may attend
DTEND:20250701T233000Z
DTSTAMP:20250624T221238Z
DTSTART:20250701T220000Z
GEO:38.831548;-77.094708
LOCATION:Fairlington Presbyterian Church
SEQUENCE:6
STATUS:CONFIRMED
SUMMARY:Community Cookout Fairlington Presbyterian Church
TRANSP:TRANSPARENT
UID:6b6ea62b-d878-4d01-9e93-8f0a3361fd41
X-ALT-DESC;FMTTYPE=text/html:To verify info please see <a href="https://ap
 ps.alexandriava.gov/Calendar/Detail.aspx?si=59669">https://apps.alexandri
 ava.gov/Calendar/Detail.aspx?si=59669</a><br />\n<br />Join RPCA for free
  food\, games\, activities \, giveaways\, connect with city resources and
  more! \n<br />\n<br />Location: Fairlington Presbyterian Church\n<br />C
 ontact Person: Michael Johnson \n<br />Contact Phone: 703.898.5115\n<br /
 >Contact Email: michael.johnson@alexandriava.gov\n<br />Audience: Anyone 
 may attend
X-COA-DTSTAMP:20250624T221238Z
END:VEVENT
END:VCALENDAR
