BEGIN:VCALENDAR
CALSCALE:GREGORIAN
METHOD:PUBLISH
PRODID:-//github.com/ical-org/ical.net//NONSGML ical.net 4.0//EN
VERSION:2.0
X-WR-TIMEZONE:US/Eastern
BEGIN:VEVENT
CATEGORIES:Community Engagement
CATEGORIES:Community Meeting
CATEGORIES:Community Outreach
CATEGORIES:Planning Meeting
DESCRIPTION:To verify info please see https://apps.alexandriava.gov/Calend
 ar/Detail.aspx?si=59659\n\nPlanning & Zoning Virtual Community Update\n\n
 These virtual updates offer community members an opportunity to stay info
 rmed about larger development projects under consideration\, changes to r
 egulations that affect new development\, and upcoming planning initiative
 s. Learn where to find more information and how to participate in the pro
 cess.  \n\nRegister in advance for this webinar:\n\nZoom link: https://zo
 om.us/webinar/register/WN_TC8_MOh5QzaD8rN1gwzHyA \n\nMeeting ID: 946 2967
  5131 \n\nPasscode: 474155 \n\nDial-in: 301.715.8592 \n\n\nLocation:  Vir
 tual Only\nContact Person: Katherine Carraway\nContact Phone: 703.746.385
 5\nContact Email: katherine.carraway@alexandriava.gov\nAudience: Anyone m
 ay attend\nTags: Community Engagement\, Community Meeting\, Community Out
 reach\, Planning Meeting\n\nWeb resources:\n\nProject website\nhttps://ww
 w.alexandriava.gov/planning-and-zoning/planning-zoning-bi-monthly-virtual
 -community-updates\n
DTEND:20250902T230000Z
DTSTAMP:20250812T162304Z
DTSTART:20250902T220000Z
LOCATION: Virtual Only
SEQUENCE:7
STATUS:CONFIRMED
SUMMARY:Planning & Zoning Virtual Community Update
TRANSP:OPAQUE
UID:cbba7683-358b-48fb-a145-b6655e1734b2
URL:https://www.alexandriava.gov/planning-and-zoning/planning-zoning-bi-mo
 nthly-virtual-community-updates
X-ALT-DESC;FMTTYPE=text/html:To verify info please see <a href="https://ap
 ps.alexandriava.gov/Calendar/Detail.aspx?si=59659">https://apps.alexandri
 ava.gov/Calendar/Detail.aspx?si=59659</a><br />\n<br />Planning &amp\; Zo
 ning Virtual Community Update\n<br />\n<br />These virtual updates offer 
 community members an opportunity to stay informed about larger developmen
 t projects under consideration\, changes to regulations that affect new d
 evelopment\, and upcoming planning initiatives. Learn where to find more 
 information and how to participate in the process.  \n<br />\n<br />Regis
 ter in advance for this webinar:\n<br />\n<br />Zoom link: https://zoom.u
 s/webinar/register/WN_TC8_MOh5QzaD8rN1gwzHyA \n<br />\n<br />Meeting ID: 
 946 2967 5131 \n<br />\n<br />Passcode: 474155 \n<br />\n<br />Dial-in: 3
 01.715.8592 \n<br />\n<br />\n<br />Location:  Virtual Only\n<br />Contac
 t Person: Katherine Carraway\n<br />Contact Phone: 703.746.3855\n<br />Co
 ntact Email: katherine.carraway@alexandriava.gov\n<br />Audience: Anyone 
 may attend\n<br />Tags: Community Engagement\, Community Meeting\, Commun
 ity Outreach\, Planning Meeting<br>\n<a href="https://www.alexandriava.go
 v/planning-and-zoning/planning-zoning-bi-monthly-virtual-community-update
 s">Project website</a><br>\n
X-COA-DTSTAMP:20250812T162304Z
END:VEVENT
END:VCALENDAR
