BEGIN:VCALENDAR
CALSCALE:GREGORIAN
METHOD:PUBLISH
PRODID:-//github.com/ical-org/ical.net//NONSGML ical.net 4.0//EN
VERSION:2.0
X-WR-TIMEZONE:US/Eastern
BEGIN:VEVENT
CATEGORIES:Boards & Commissions
DESCRIPTION:To verify info please see https://apps.alexandriava.gov/Calend
 ar/Detail.aspx?si=59640\n\nIndustrial Development Authority \n601 Prince 
 St\n\nLocation:  No Location Specified\nContact Person: Wynn Hunsaker\nCo
 ntact Phone: 703.652.5379\nContact Email: hunsaker@alexandriacon.org\nAud
 ience: Anyone may attend\nTags: Boards & Commissions
DTEND:20250627T150000Z
DTSTAMP:20250618T170717Z
DTSTART:20250627T130000Z
SEQUENCE:5
STATUS:CONFIRMED
SUMMARY:Industrial Development Authority
TRANSP:TRANSPARENT
UID:d0a603ba-e31d-4cd5-9a09-f3878347a82b
X-ALT-DESC;FMTTYPE=text/html:To verify info please see <a href="https://ap
 ps.alexandriava.gov/Calendar/Detail.aspx?si=59640">https://apps.alexandri
 ava.gov/Calendar/Detail.aspx?si=59640</a><br />\n<br />Industrial Develop
 ment Authority \n<br />601 Prince St\n<br />\n<br />Location:  No Locatio
 n Specified\n<br />Contact Person: Wynn Hunsaker\n<br />Contact Phone: 70
 3.652.5379\n<br />Contact Email: hunsaker@alexandriacon.org\n<br />Audien
 ce: Anyone may attend\n<br />Tags: Boards &amp\; Commissions
X-COA-DTSTAMP:20250618T170717Z
END:VEVENT
END:VCALENDAR
