BEGIN:VCALENDAR
CALSCALE:GREGORIAN
METHOD:PUBLISH
PRODID:-//github.com/ical-org/ical.net//NONSGML ical.net 4.0//EN
VERSION:2.0
X-WR-TIMEZONE:US/Eastern
BEGIN:VEVENT
CATEGORIES:Boards & Commissions
CATEGORIES:Museums
DESCRIPTION:To verify info please see https://apps.alexandriava.gov/Calend
 ar/Detail.aspx?si=59610\n\nA meeting of the Public Records Advisory Commi
 ssion\n\nLocation: Archives and Records Center\, 801 S. Payne Street\nAud
 ience: Anyone may attend\nTags: Boards & Commissions\, Museums\n\nWeb res
 ources:\n\nMeeting Agenda\nhttps://www.alexandriava.gov/sites/default/fil
 es/2025-06/pracagenda20250616.pdf\n
DTEND:20250617T013000Z
DTSTAMP:20250613T202757Z
DTSTART:20250616T233000Z
LOCATION:Archives and Records Center\, 801 S. Payne Street
SEQUENCE:6
STATUS:CONFIRMED
SUMMARY:Public Records Advisory Commission
TRANSP:OPAQUE
UID:950ecaf0-9e6d-4522-a60c-b6877968b768
URL:https://www.alexandriava.gov/sites/default/files/2025-06/pracagenda202
 50616.pdf
X-ALT-DESC;FMTTYPE=text/html:To verify info please see <a href="https://ap
 ps.alexandriava.gov/Calendar/Detail.aspx?si=59610">https://apps.alexandri
 ava.gov/Calendar/Detail.aspx?si=59610</a><br />\n<br />A meeting of the P
 ublic Records Advisory Commission\n<br />\n<br />Location: Archives and R
 ecords Center\, 801 S. Payne Street\n<br />Audience: Anyone may attend\n<
 br />Tags: Boards &amp\; Commissions\, Museums<br>\n<a href="https://www.
 alexandriava.gov/sites/default/files/2025-06/pracagenda20250616.pdf">Meet
 ing Agenda</a><br>\n
X-COA-DTSTAMP:20250613T202757Z
END:VEVENT
END:VCALENDAR
