BEGIN:VCALENDAR
CALSCALE:GREGORIAN
METHOD:PUBLISH
PRODID:-//github.com/ical-org/ical.net//NONSGML ical.net 4.0//EN
VERSION:2.0
X-WR-TIMEZONE:US/Eastern
BEGIN:VEVENT
DESCRIPTION:To verify info please see https://apps.alexandriava.gov/Calend
 ar/Detail.aspx?si=59609\n\nA meeting of the Alexandria Sister Cities Comm
 ittee (SSC) - Dundee and Helsingborg. \n\nLocation: City Hall\, Sister Ci
 ties Room 1101\, 301 King St.\nAudience: Anyone may attend\n\nWeb resourc
 es:\n\nMeeting Agenda\nhttps://www.alexandriava.gov/sites/default/files/2
 025-06/sscagenda20250616_1.pdf\n
DTEND:20250617T003000Z
DTSTAMP:20251016T003313Z
DTSTART:20250616T230000Z
GEO:38.805537;-77.042758
LOCATION:City Hall\, Sister Cities Room 1101\, 301 King St.
SEQUENCE:8
STATUS:CONFIRMED
SUMMARY:Sister Cities Committee Dundee and Helsingborg
TRANSP:OPAQUE
UID:939055fe-acc9-4683-9545-b387a5c86a9a
URL:https://www.alexandriava.gov/sites/default/files/2025-06/sscagenda2025
 0616_1.pdf
X-ALT-DESC;FMTTYPE=text/html:To verify info please see <a href="https://ap
 ps.alexandriava.gov/Calendar/Detail.aspx?si=59609">https://apps.alexandri
 ava.gov/Calendar/Detail.aspx?si=59609</a><br />\n<br />A meeting of the A
 lexandria Sister Cities Committee (SSC) - Dundee and Helsingborg. \n<br /
 >\n<br />Location: City Hall\, Sister Cities Room 1101\, 301 King St.\n<b
 r />Audience: Anyone may attend<br>\n<a href="https://www.alexandriava.go
 v/sites/default/files/2025-06/sscagenda20250616_1.pdf">Meeting Agenda</a>
 <br>\n
X-COA-DTSTAMP:20251016T003313Z
END:VEVENT
END:VCALENDAR
